BEGIN:VCALENDAR
VERSION:2.0
PRODID:-//Malachi Gilmore Hall - ECPv6.15.10//NONSGML v1.0//EN
CALSCALE:GREGORIAN
METHOD:PUBLISH
X-WR-CALNAME:Malachi Gilmore Hall
X-ORIGINAL-URL:https://malachigilmorehall.com.au
X-WR-CALDESC:Events for Malachi Gilmore Hall
REFRESH-INTERVAL;VALUE=DURATION:PT1H
X-Robots-Tag:noindex
X-PUBLISHED-TTL:PT1H
BEGIN:VTIMEZONE
TZID:Australia/Sydney
BEGIN:STANDARD
TZOFFSETFROM:+1100
TZOFFSETTO:+1000
TZNAME:AEST
DTSTART:20230401T160000
END:STANDARD
BEGIN:DAYLIGHT
TZOFFSETFROM:+1000
TZOFFSETTO:+1100
TZNAME:AEDT
DTSTART:20230930T160000
END:DAYLIGHT
BEGIN:STANDARD
TZOFFSETFROM:+1100
TZOFFSETTO:+1000
TZNAME:AEST
DTSTART:20240406T160000
END:STANDARD
BEGIN:DAYLIGHT
TZOFFSETFROM:+1000
TZOFFSETTO:+1100
TZNAME:AEDT
DTSTART:20241005T160000
END:DAYLIGHT
BEGIN:STANDARD
TZOFFSETFROM:+1100
TZOFFSETTO:+1000
TZNAME:AEST
DTSTART:20250405T160000
END:STANDARD
BEGIN:DAYLIGHT
TZOFFSETFROM:+1000
TZOFFSETTO:+1100
TZNAME:AEDT
DTSTART:20251004T160000
END:DAYLIGHT
END:VTIMEZONE
BEGIN:VEVENT
DTSTART;TZID=Australia/Sydney:20241207T160000
DTEND;TZID=Australia/Sydney:20241207T203000
DTSTAMP:20260425T133123
CREATED:20241201T104242Z
LAST-MODIFIED:20241201T104242Z
UID:2193-1733587200-1733603400@malachigilmorehall.com.au
SUMMARY:End Of Year Spectacular - 360 Camera Photo-booth
DESCRIPTION:This year’s Oberon End Of Year Street Festival will feature a fun way to celebrate the festive season at the Malachi.  Pop into the Malachi with your friends\, walk down the red-carpet\, grab some festive props\, step onto our platform and pose for a rotating selfie video with our party music and lights! \nAn instantly sharable video will be given to you – free of charge! \nCome and join in the fun at the Malachi – thanks to Oberon Council.
URL:https://malachigilmorehall.com.au/event/end-of-year-spectacular-360-camera-photo-booth/
LOCATION:The Malachi Gilmore Hall\, 124 Oberon Street\, Oberon\, NSW\, 2787\, Australia
CATEGORIES:Family Fun
ATTACH;FMTTYPE=image/png:https://malachigilmorehall.com.au/wp-content/uploads/2024/12/EOYspec.png
END:VEVENT
END:VCALENDAR