BEGIN:VCALENDAR
VERSION:2.0
PRODID:-//Malachi Gilmore Hall - ECPv6.15.10//NONSGML v1.0//EN
CALSCALE:GREGORIAN
METHOD:PUBLISH
X-WR-CALNAME:Malachi Gilmore Hall
X-ORIGINAL-URL:https://malachigilmorehall.com.au
X-WR-CALDESC:Events for Malachi Gilmore Hall
REFRESH-INTERVAL;VALUE=DURATION:PT1H
X-Robots-Tag:noindex
X-PUBLISHED-TTL:PT1H
BEGIN:VTIMEZONE
TZID:Australia/Sydney
BEGIN:STANDARD
TZOFFSETFROM:+1100
TZOFFSETTO:+1000
TZNAME:AEST
DTSTART:20240406T160000
END:STANDARD
BEGIN:DAYLIGHT
TZOFFSETFROM:+1000
TZOFFSETTO:+1100
TZNAME:AEDT
DTSTART:20241005T160000
END:DAYLIGHT
BEGIN:STANDARD
TZOFFSETFROM:+1100
TZOFFSETTO:+1000
TZNAME:AEST
DTSTART:20250405T160000
END:STANDARD
BEGIN:DAYLIGHT
TZOFFSETFROM:+1000
TZOFFSETTO:+1100
TZNAME:AEDT
DTSTART:20251004T160000
END:DAYLIGHT
BEGIN:STANDARD
TZOFFSETFROM:+1100
TZOFFSETTO:+1000
TZNAME:AEST
DTSTART:20260404T160000
END:STANDARD
BEGIN:DAYLIGHT
TZOFFSETFROM:+1000
TZOFFSETTO:+1100
TZNAME:AEDT
DTSTART:20261003T160000
END:DAYLIGHT
END:VTIMEZONE
BEGIN:VEVENT
DTSTART;TZID=Australia/Sydney:20250328T121500
DTEND;TZID=Australia/Sydney:20250328T141500
DTSTAMP:20260425T091942
CREATED:20250221T132105Z
LAST-MODIFIED:20250323T212441Z
UID:2264-1743164100-1743171300@malachigilmorehall.com.au
SUMMARY:Latin Music & Drumming Workshop
DESCRIPTION:Whether you are an established musician\, a student or just an enthusiast\, come along to this very special workshop featuring members of the celebrated Sydney bands Caribé and ALLY. These amazing musicians hail from Sydney’s Cuban\, jazz and Latin communities and have been a favourite at music festivals and Latin dances all around Australia for many years.  Learn new grooves and experience playing rhythm patterns in a group setting with a great backing band! \nThe workshop will be 1.5 hours in length and anyone can participate!  Percussionist Julio Candela will demonstrate a couple of easy styles so that people with no experience can learn. Saxophonist Gai Bryant\, pianist Daniel Pliner and bassist Cesar Marin will also be on hand to help people with the rhythm patterns and give context to how the rhythms sound in a group situation. Each style is broken up into small rhythm patterns which are eventually joined together. Participants can experience playing Afro-Peruvian grooves such as a Lando and a Panalivio alongside a Cuban styles such as mambo and cha cha chá or a Latin funk groove. \nIf you have drums or hand percussion of your own\, please bring them to the workshop if you can. We will also have available djembe drums from the Oberon Drumming Group\, so everyone will have a chance to play an instrument. \nALLY have performed and conducted workshops for BOOM! International Festival of Percussion\, Bellingen Muse\, Sydney Sacred Music Festival\, Sydney Afro-Latin Festival\, Inland Sea of Sound and Sydney International Women’s Jazz Festival. NRC Lismore\, Salsa Caliente Mullumbimby\, El Horses Nowra\, Blue Mountains Theatre\, Kandos High School\, Orange Regional Conservatorium\, Parkes Latin Sounds at the Pavilion and more. \nPlease call Lucy East on 0401 262 260 to secure your place – limited numbers only!
URL:https://malachigilmorehall.com.au/event/latin-music-drumming-workshop/
LOCATION:The Malachi Gilmore Hall\, 124 Oberon Street\, Oberon\, NSW\, 2787\, Australia
CATEGORIES:Live Music,Workshop
ATTACH;FMTTYPE=image/jpeg:https://malachigilmorehall.com.au/wp-content/uploads/2025/02/AllyCaribe_Workshop_mgh.jpg
ORGANIZER;CN="Oberon Live Projects":MAILTO:info@malachigilmorehall.com.au
END:VEVENT
END:VCALENDAR