BEGIN:VCALENDAR
VERSION:2.0
PRODID:-//Malachi Gilmore Hall - ECPv6.15.10//NONSGML v1.0//EN
CALSCALE:GREGORIAN
METHOD:PUBLISH
X-ORIGINAL-URL:https://malachigilmorehall.com.au
X-WR-CALDESC:Events for Malachi Gilmore Hall
REFRESH-INTERVAL;VALUE=DURATION:PT1H
X-Robots-Tag:noindex
X-PUBLISHED-TTL:PT1H
BEGIN:VTIMEZONE
TZID:Australia/Sydney
BEGIN:STANDARD
TZOFFSETFROM:+1100
TZOFFSETTO:+1000
TZNAME:AEST
DTSTART:20230401T160000
END:STANDARD
BEGIN:DAYLIGHT
TZOFFSETFROM:+1000
TZOFFSETTO:+1100
TZNAME:AEDT
DTSTART:20230930T160000
END:DAYLIGHT
BEGIN:STANDARD
TZOFFSETFROM:+1100
TZOFFSETTO:+1000
TZNAME:AEST
DTSTART:20240406T160000
END:STANDARD
BEGIN:DAYLIGHT
TZOFFSETFROM:+1000
TZOFFSETTO:+1100
TZNAME:AEDT
DTSTART:20241005T160000
END:DAYLIGHT
BEGIN:STANDARD
TZOFFSETFROM:+1100
TZOFFSETTO:+1000
TZNAME:AEST
DTSTART:20250405T160000
END:STANDARD
BEGIN:DAYLIGHT
TZOFFSETFROM:+1000
TZOFFSETTO:+1100
TZNAME:AEDT
DTSTART:20251004T160000
END:DAYLIGHT
END:VTIMEZONE
BEGIN:VEVENT
DTSTART;TZID=Australia/Sydney:20240907T190000
DTEND;TZID=Australia/Sydney:20240907T211500
DTSTAMP:20260425T230555
CREATED:20240722T113015Z
LAST-MODIFIED:20250725T230004Z
UID:2084-1725735600-1725743700@malachigilmorehall.com.au
SUMMARY:Chloe Swannell - Livin' In The Country
DESCRIPTION:Get Tickets\nScene favourite Chloe Swannell is celebrating the release of her debut EP Livin’ In The Country with a sure to sell-out string of shows this September. Performing live with a three-piece band\, Chloe will deliver an unforgettable night of country pop certain to have you dancing and singing along. \nAfter a rollercoaster year\, Chloe is ready to celebrate her first EP. Hot on the heels of her radio single Strange Love’s runaway success\, Chloe is excited to finally share a full set of music. A unique and punchy celebration of modern country\, the songs are bursting with catchy melodies\, powerful storytelling and infectious beats. \nCome along and help celebrate the release of Chloe’s debut EP with a night of sing-alongs\, stories and good ol’ country music from one of the scene’s rising stars. \nDoors open at 6 PM \n  \nThis concert is supported by Live Music Australia
URL:https://malachigilmorehall.com.au/event/chloe-swannell/
LOCATION:The Malachi Gilmore Hall\, 124 Oberon Street\, Oberon\, NSW\, 2787\, Australia
CATEGORIES:Live Music
ATTACH;FMTTYPE=image/jpeg:https://malachigilmorehall.com.au/wp-content/uploads/2024/07/Chloe-LITC-900x900-1.jpg
ORGANIZER;CN="Malachi Gilmore Hall":MAILTO:info@malachigilmorehall.com.au
END:VEVENT
END:VCALENDAR