BEGIN:VCALENDAR
VERSION:2.0
PRODID:-//Malachi Gilmore Hall - ECPv6.15.10//NONSGML v1.0//EN
CALSCALE:GREGORIAN
METHOD:PUBLISH
X-WR-CALNAME:Malachi Gilmore Hall
X-ORIGINAL-URL:https://malachigilmorehall.com.au
X-WR-CALDESC:Events for Malachi Gilmore Hall
REFRESH-INTERVAL;VALUE=DURATION:PT1H
X-Robots-Tag:noindex
X-PUBLISHED-TTL:PT1H
BEGIN:VTIMEZONE
TZID:Australia/Sydney
BEGIN:STANDARD
TZOFFSETFROM:+1100
TZOFFSETTO:+1000
TZNAME:AEST
DTSTART:20210403T160000
END:STANDARD
BEGIN:DAYLIGHT
TZOFFSETFROM:+1000
TZOFFSETTO:+1100
TZNAME:AEDT
DTSTART:20211002T160000
END:DAYLIGHT
BEGIN:STANDARD
TZOFFSETFROM:+1100
TZOFFSETTO:+1000
TZNAME:AEST
DTSTART:20220402T160000
END:STANDARD
BEGIN:DAYLIGHT
TZOFFSETFROM:+1000
TZOFFSETTO:+1100
TZNAME:AEDT
DTSTART:20221001T160000
END:DAYLIGHT
BEGIN:STANDARD
TZOFFSETFROM:+1100
TZOFFSETTO:+1000
TZNAME:AEST
DTSTART:20230401T160000
END:STANDARD
BEGIN:DAYLIGHT
TZOFFSETFROM:+1000
TZOFFSETTO:+1100
TZNAME:AEDT
DTSTART:20230930T160000
END:DAYLIGHT
END:VTIMEZONE
BEGIN:VEVENT
DTSTART;TZID=Australia/Sydney:20220826T190000
DTEND;TZID=Australia/Sydney:20220826T213000
DTSTAMP:20260424T222040
CREATED:20220815T225931Z
LAST-MODIFIED:20220815T225931Z
UID:1334-1661540400-1661549400@malachigilmorehall.com.au
SUMMARY:Smith & Jones + Chloe Swannell - Live & Kicking
DESCRIPTION:Smith & Jones met at a record store in Bathurst. Eight years later and two albums on\, Abby (piano) & Sophie (guitar) have toured extensively and appeared at many festivals including Tamworth and Inland Sea of Sound.  Smith & Jones will be joined by Cellist Ella J adding another dimension to the sound.  Opening the night will be Oberon local Chloe Swannell performing a set of her original songs.
URL:https://malachigilmorehall.com.au/event/smith-jones-chloe-swannell-live-kicking/
LOCATION:The Malachi Gilmore Hall\, 124 Oberon Street\, Oberon\, NSW\, 2787\, Australia
CATEGORIES:Live Music
ATTACH;FMTTYPE=image/jpeg:https://malachigilmorehall.com.au/wp-content/uploads/2022/07/SmithJonesChloeSwannell_Malachi_Instagram.jpg
END:VEVENT
END:VCALENDAR