BEGIN:VCALENDAR
VERSION:2.0
PRODID:-//Malachi Gilmore Hall - ECPv6.15.10//NONSGML v1.0//EN
CALSCALE:GREGORIAN
METHOD:PUBLISH
X-WR-CALNAME:Malachi Gilmore Hall
X-ORIGINAL-URL:https://malachigilmorehall.com.au
X-WR-CALDESC:Events for Malachi Gilmore Hall
REFRESH-INTERVAL;VALUE=DURATION:PT1H
X-Robots-Tag:noindex
X-PUBLISHED-TTL:PT1H
BEGIN:VTIMEZONE
TZID:Australia/Sydney
BEGIN:STANDARD
TZOFFSETFROM:+1100
TZOFFSETTO:+1000
TZNAME:AEST
DTSTART:20210403T160000
END:STANDARD
BEGIN:DAYLIGHT
TZOFFSETFROM:+1000
TZOFFSETTO:+1100
TZNAME:AEDT
DTSTART:20211002T160000
END:DAYLIGHT
BEGIN:STANDARD
TZOFFSETFROM:+1100
TZOFFSETTO:+1000
TZNAME:AEST
DTSTART:20220402T160000
END:STANDARD
BEGIN:DAYLIGHT
TZOFFSETFROM:+1000
TZOFFSETTO:+1100
TZNAME:AEDT
DTSTART:20221001T160000
END:DAYLIGHT
BEGIN:STANDARD
TZOFFSETFROM:+1100
TZOFFSETTO:+1000
TZNAME:AEST
DTSTART:20230401T160000
END:STANDARD
BEGIN:DAYLIGHT
TZOFFSETFROM:+1000
TZOFFSETTO:+1100
TZNAME:AEDT
DTSTART:20230930T160000
END:DAYLIGHT
BEGIN:STANDARD
TZOFFSETFROM:+1100
TZOFFSETTO:+1000
TZNAME:AEST
DTSTART:20240406T160000
END:STANDARD
BEGIN:DAYLIGHT
TZOFFSETFROM:+1000
TZOFFSETTO:+1100
TZNAME:AEDT
DTSTART:20241005T160000
END:DAYLIGHT
END:VTIMEZONE
BEGIN:VEVENT
DTSTART;TZID=Australia/Sydney:20230318T090000
DTEND;TZID=Australia/Sydney:20230318T160000
DTSTAMP:20260424T210114
CREATED:20230220T114535Z
LAST-MODIFIED:20230220T115952Z
UID:1660-1679130000-1679155200@malachigilmorehall.com.au
SUMMARY:Oberon Brick Show
DESCRIPTION:Playwell Events will be holding its very own Brick Show at the Malachi. We will have over 30 tables of custom-built LEGO models on display\, with themes ranging from Star Wars\, Architecture & Trucks to a City layout\, there will be something for everyone. We’ll also have the ever-popular play tables where the kids can get creative themselves. There will also be opportunities to purchase LEGO on the day from our vendors. \nOver 30 Tables of Displays! \n\n\n\nLEGO Play Tables\nLots of Interactive Activities\nLots of Retail\, from large\, rare\, hard to find sets to a variety of LEGO parts and minifigures.\n\n\n\n\nGeneral Admission $10 \nTickets available at the door or here
URL:https://malachigilmorehall.com.au/event/oberon-brick-show/
LOCATION:The Malachi Gilmore Hall\, 124 Oberon Street\, Oberon\, NSW\, 2787\, Australia
CATEGORIES:Family Fun
ATTACH;FMTTYPE=image/png:https://malachigilmorehall.com.au/wp-content/uploads/2023/02/OberonBrickShow3.png
END:VEVENT
BEGIN:VEVENT
DTSTART;TZID=Australia/Sydney:20230305T140000
DTEND;TZID=Australia/Sydney:20230305T170000
DTSTAMP:20260424T210114
CREATED:20230113T105046Z
LAST-MODIFIED:20230301T002702Z
UID:1603-1678024800-1678035600@malachigilmorehall.com.au
SUMMARY:FILM SCREENING: Pinchgut Opera's The Loves of Apollo & Dafne (Australian Theatre Live)
DESCRIPTION:The Malachi is bringing the best of Australian theatre to our brand-new big-screen\, with film screenings from recent live theatre shows. \nOn this occasion we will also be treated to a live performance of four arias by local singer Domino Houlbrook-Cove before the screening commences. \nCelebrating twenty years of performances\, Pinchgut Opera brings us a superb production directed by Mitchell Butel\, gloriously sung and with a lush\, exquisite performance by the Orchestra of the Antipodes led by Erin Helyard on chamber organ and harpsichord. The Orchestra was streamlined with Baroque harp intrepidly performed by Hannah Lane\, Laura Vaughan on viola da gamba and lirone\, and Simon Martyn-Ellis on theorbo. \nThis production was filmed at the City Recital Hall in May 2021. \nTHE LOVES OF APOLLO AND DAFNE was written in 1640 by Francesco Cavalli with lyrics by Giovanni Francesco Busenello. Cavalli moved to Venice when a schoolboy and was a pupil of Monteverdi. During the 17th century Cavalli was regarded as a major opera composer who wrote over 30 works\, but his music fell into obscurity in the 18th and 19th centuries until roughly the 1950’s. \nWithout Butel’s adorably eccentric vision\, however\, its theatrical potential may never have been known. It is as if Butel has turned Cavalli’s opera upside down and blown it to pieces\, giving it imaginative new life and something to say almost 400 years later. \nThe colours are electric and so are the voices in Butel’s riotous and witty romp in the park which highlights and toys with Busenello’s libretto. With over 20 roles cast for 6 principal singers in multiple guises and a chorus of four\, an ancient Greek myth is revitalised and resonates splendidly.
URL:https://malachigilmorehall.com.au/event/film-screening-pinchgut-operas-the-loves-of-apollo-dafne-australian-theatre-live/
LOCATION:The Malachi Gilmore Hall\, 124 Oberon Street\, Oberon\, NSW\, 2787\, Australia
CATEGORIES:Australian Theatre Live,Film Screening,Live Music
ATTACH;FMTTYPE=image/jpeg:https://malachigilmorehall.com.au/wp-content/uploads/2023/01/PINCHGUT_B1_2685_sm.jpg
END:VEVENT
BEGIN:VEVENT
DTSTART;TZID=Australia/Sydney:20230128T190000
DTEND;TZID=Australia/Sydney:20230128T223000
DTSTAMP:20260424T210114
CREATED:20221105T122532Z
LAST-MODIFIED:20221105T122740Z
UID:1525-1674932400-1674945000@malachigilmorehall.com.au
SUMMARY:Amber Lawrence - Malachi Nights
DESCRIPTION:Multiple Golden Guitar winner\, Australian singer-songwriter\, Amber Lawrence is one of Australia’s most celebrated and hardest-working country artists. \nEntering the 19th year of her career\, sees Amber solidify her spot as a much-loved entertainer for all ages\, having released 6 studio albums and 3 children’s albums. \nAmber has performed on the biggest stages in Australia\, including Carols in the Domain\, Australia Day Live at the Opera House\, Play School and has sung for Prime Ministers and Presidents and most importantly she has entertained hundreds of thousands of Australians around the country from Birdsville to Broken Hill\, and from Maroubra to Mandurah. \nAmber has been on a year long tour to celebrate her brand new album “Living for the Highlights” her 7th studio album. An album of strength\, power\, honesty\, and raw songwriting. Living for the highlights for Amber means powering on – seeing the good\, believing in better\, after the tough times that these past few years have brought many of us. When Amber performs\, it is purely to take the audience to a place of happiness\, fun and irreverence – and she’ll be doing that at the Malachi in Oberon. You won’t leave an Amber Lawrence show without being moved\, uplifted\, and most of all\, entertained. \nAmber is a an ARIA Nominee and 5 x CMAA Golden Guitar Award winner. \n\n 
URL:https://malachigilmorehall.com.au/event/amber-lawrence-malachi-nights/
LOCATION:The Malachi Gilmore Hall\, 124 Oberon Street\, Oberon\, NSW\, 2787\, Australia
CATEGORIES:Live Music
END:VEVENT
BEGIN:VEVENT
DTSTART;TZID=Australia/Sydney:20230126T130000
DTEND;TZID=Australia/Sydney:20230126T150000
DTSTAMP:20260424T210114
CREATED:20230110T124258Z
LAST-MODIFIED:20230110T135617Z
UID:1582-1674738000-1674745200@malachigilmorehall.com.au
SUMMARY:Australia Day Lunch - by The Hungry Hare
DESCRIPTION:The Hungry Hare\, Oberon’s pop-up dining experience\, presents an Australia Day Lunch at the Malachi on January 26th\, starting at 1 PM sharp.  Following hors d’oeuvres in the Foyer\, lunch is a set menu served at a long table inside the Malachi’s historic hall. Enjoy a friendly celebration of the most wonderful country in the world – in Edmond’s unique relaxed style. \nSet Menu:\n~ Wild caught large Queensland prawns with summer seafood sauce ~\n~ Great Aussie Pies ~\n~ Three classic Australian salads ~\n~​ Pavlova filled with homemade passionfruit ice cream and summer fruits topped with honey cream ~\n~ Red and white wine and bubbly available at modest prices from the bar​ ~ \nBooking essential by phone directly with Edmond Power\, The Hungry Hare\, on 0432 883 150. \n$65 pp on the door.
URL:https://malachigilmorehall.com.au/event/australia-day-long-lunch/
LOCATION:The Malachi Gilmore Hall\, 124 Oberon Street\, Oberon\, NSW\, 2787\, Australia
CATEGORIES:Long Lunch
ATTACH;FMTTYPE=image/png:https://malachigilmorehall.com.au/wp-content/uploads/2023/01/The-Hungry-Hare-ssm.png
END:VEVENT
BEGIN:VEVENT
DTSTART;TZID=Australia/Sydney:20221217T100000
DTEND;TZID=Australia/Sydney:20221217T220000
DTSTAMP:20260424T210114
CREATED:20221213T135603Z
LAST-MODIFIED:20221215T123741Z
UID:1558-1671271200-1671314400@malachigilmorehall.com.au
SUMMARY:The Malachi Movie Marathon!
DESCRIPTION:To join in the fun at the Oberon Street Markets this Saturday\, we are showing back-to-back Christmas movies from the decades of the Malachi’s ‘Picture Show’ history. \nCome inside and see what’s showing.  Grab a drink from the Foyer Bar and settle into a sofa for as long as you like and be part of our Movie Marathon. \nScreening Times: \n10 AM – It’s a Wonderful Life\, 1946 Drama Comedy\, 130 mins (PG) \n2 PM – Rudolph the Red Nosed Reindeer\, 1964 Musical/Fantasy\, 55 mins (G) \n3 PM – Frosty the Snowman\, 1969 Fantasy/Animation\, 25 mins (G) \n4 PM – Jingle All The Way\, 1996 Comedy/Family\, 86 mins (PG) \n6 PM – Miracle on 34th Street\, 1947 Comedy/Drama\, 96 mins (G) \n8 PM – Scrooge\, 1970 Musical/Fantasy\, 113 mins (G)
URL:https://malachigilmorehall.com.au/event/the-malachi-movie-marathon/
LOCATION:The Malachi Gilmore Hall\, 124 Oberon Street\, Oberon\, NSW\, 2787\, Australia
CATEGORIES:Film Screening
ATTACH;FMTTYPE=image/png:https://malachigilmorehall.com.au/wp-content/uploads/2022/12/MovieMarathon.png
END:VEVENT
BEGIN:VEVENT
DTSTART;VALUE=DATE:20221203
DTEND;VALUE=DATE:20221212
DTSTAMP:20260424T210114
CREATED:20221010T122446Z
LAST-MODIFIED:20221203T114112Z
UID:1484-1670025600-1670803199@malachigilmorehall.com.au
SUMMARY:While the World Waits - Art Show
DESCRIPTION:10 am – 4 pm Saturday 3 December\n10 am – 4 pm Sunday 4 December\n10 am – 4 pm Friday 9 December\n10 am – 4 pm Saturday 10 December\n10 am – 2 pm Sun 11 December \nThe last two years have been tough in the Arts. Lockdowns and loss of work ran right across all artforms. Live shows took a hammering! In 2021\, Arts OutWest commissioned 15 central west songwriters to each write a song reflecting their experiences of 2020\, producing a compilation album of original music\, titled While the World Waits. \nIn 2022\, artists from across the central west have been asked to use the CD as a jumping-off point and inspiration for new work – a unique opportunity for regional visual artists to create artworks in response to regional music. \nWhile the World Waits is a curated exhibition in which selected artists each respond to one or more tracks\, title or words on the album. The exhibition will showcase work from across all mediums: you will see painting\, sculpture\, drawing\, ceramics\, moving image\, photography\, glass and textiles. \nThe exhibition opening on Saturday 3 December at 2 pm will feature musician Kris Schubert performing his original music live.
URL:https://malachigilmorehall.com.au/event/while-the-world-waits-art-show/
LOCATION:The Malachi Gilmore Hall\, 124 Oberon Street\, Oberon\, NSW\, 2787\, Australia
CATEGORIES:Art Exhibition
ATTACH;FMTTYPE=image/jpeg:https://malachigilmorehall.com.au/wp-content/uploads/2022/10/WTWW_Instagram-tile_Robert-Hirschmann-Copy.jpg
END:VEVENT
BEGIN:VEVENT
DTSTART;TZID=Australia/Sydney:20221127T100000
DTEND;TZID=Australia/Sydney:20221127T160000
DTSTAMP:20260424T210114
CREATED:20221105T115907Z
LAST-MODIFIED:20221105T222104Z
UID:1521-1669543200-1669564800@malachigilmorehall.com.au
SUMMARY:Radio Play in a Day
DESCRIPTION:Announcing a fun community activity for both experienced and non-experienced ACTORS.  Gather your creative friends and join in the fun: we are calling for 15 voice acting roles and two sound effects makers to\, in one day\, read\, rehearse\, perform (using the script)\, and record a classic play from the 1940s! \nThis event is FREE for all participants and audience – the recorded performance will commence at 3 PM – all are welcome.  To join the cast\, sign up with Wayne Barker at Barker’s Butchery or call Lucy East 0401 262 260. \nA recorded copy of the performance will be available online at the end of the day.
URL:https://malachigilmorehall.com.au/event/radio-play-in-a-day/
LOCATION:The Malachi Gilmore Hall\, 124 Oberon Street\, Oberon\, NSW\, 2787\, Australia
CATEGORIES:Theatre
ATTACH;FMTTYPE=image/png:https://malachigilmorehall.com.au/wp-content/uploads/2022/11/PLAY-2.png
END:VEVENT
BEGIN:VEVENT
DTSTART;TZID=Australia/Sydney:20221125T190000
DTEND;TZID=Australia/Sydney:20221125T214500
DTSTAMP:20260424T210114
CREATED:20220829T102424Z
LAST-MODIFIED:20220829T104142Z
UID:1451-1669402800-1669412700@malachigilmorehall.com.au
SUMMARY:Melinda Schneider - Malachi Nights
DESCRIPTION:Multi Golden Guitar Award winner and chart-topping singer/songwriter\, Melinda Schneider\, presents an intimate concert performance featuring her Golden Guitar winning hits and a heartfelt homage to the songs\, the songwriters and the singers who have shaped her\, including Dolly Parton\, Joni Mitchell\, Doris Day and Carole King.
URL:https://malachigilmorehall.com.au/event/melinda-schneider-malachi-nights/
LOCATION:The Malachi Gilmore Hall\, 124 Oberon Street\, Oberon\, NSW\, 2787\, Australia
CATEGORIES:Live Music
ATTACH;FMTTYPE=image/jpeg:https://malachigilmorehall.com.au/wp-content/uploads/2022/08/Schneider-Melinda-web-sq.jpg
END:VEVENT
BEGIN:VEVENT
DTSTART;TZID=Australia/Sydney:20221106T143000
DTEND;TZID=Australia/Sydney:20221106T163000
DTSTAMP:20260424T210114
CREATED:20220816T110343Z
LAST-MODIFIED:20220816T110343Z
UID:1347-1667745000-1667752200@malachigilmorehall.com.au
SUMMARY:Genni Kane - Live & Kicking
DESCRIPTION:Genni Kane found her feet as a songwriter with the legendary ARIA and multiple Golden Guitar winning 80’s band\, Flying Emus\, and has since written songs for many projects and artists including Slim Dusty. Genni Released her second solo album Songs from the Kitchen Table in 2019\, which was critiqued in the Sydney Morning Herald: “…Kane has crafted these everyday events into songs of great simplicity and unswerving honesty… The end result has the vocal beauty of Emmylou Harris and the sharp clarity of Loudon Wainwright III. Every track is memorable and moving…”.
URL:https://malachigilmorehall.com.au/event/genni-kane-live-kicking/
LOCATION:The Malachi Gilmore Hall\, 124 Oberon Street\, Oberon\, NSW\, 2787\, Australia
CATEGORIES:Live Music
ATTACH;FMTTYPE=image/jpeg:https://malachigilmorehall.com.au/wp-content/uploads/2022/07/GenniKane_MGH.jpg
END:VEVENT
BEGIN:VEVENT
DTSTART;TZID=Australia/Sydney:20221029T190000
DTEND;TZID=Australia/Sydney:20221029T223000
DTSTAMP:20260424T210114
CREATED:20220816T110032Z
LAST-MODIFIED:20220816T110032Z
UID:1345-1667070000-1667082600@malachigilmorehall.com.au
SUMMARY:The Great Railway Ball
DESCRIPTION:Celebrate spring with the Oberon & Tarana Heritage Railway\, which is closer than ever to seeing a train running on our line to Hazelgrove. With this in mind and with spring on the way it’s time to celebrate! Dig out your glad rags\, polish up your dancing shoes and come and join in the celebrations at the Malachi. Entry includes a three-course meal and complimentary glass of bubbles on arrival.  You can book a table for 8 people\, or you can book a seat at a table.
URL:https://malachigilmorehall.com.au/event/the-great-railway-ball/
LOCATION:The Malachi Gilmore Hall\, 124 Oberon Street\, Oberon\, NSW\, 2787\, Australia
CATEGORIES:Dinner and Dance
ATTACH;FMTTYPE=image/png:https://malachigilmorehall.com.au/wp-content/uploads/2022/08/othr-GtRailwayBall.png
END:VEVENT
BEGIN:VEVENT
DTSTART;TZID=Australia/Sydney:20221009T150000
DTEND;TZID=Australia/Sydney:20221009T163000
DTSTAMP:20260424T210114
CREATED:20220822T082859Z
LAST-MODIFIED:20220822T082859Z
UID:1428-1665327600-1665333000@malachigilmorehall.com.au
SUMMARY:FILM SCREENING: Italian Baroque Circa (Australian Theatre Live - Stage to Screen)
DESCRIPTION:The Malachi is bringing the best of Austalian theatre to our brand-new big-screen\, with film screenings from the Sydney Festival 2022 Roadshow. \nFlorence\, Naples\, Venice and Rome. Four remarkable cities\, each with its own proud people\, distinctive histories and architecture. In its fourth collaboration with internationally acclaimed contemporary circus company\, Circa\, the Australian Brandenburg Orchestra will take you on a rollicking ride through Italy’s multi-layered past. Paul Dyer’s kaleidoscopic pasticcio will be fuelled by the vivacious Brandenburg period instrumentalists and Circa’s energetic acrobats. \nThe crumbling columns of the Roman Forum and Dante’s flourishing Florence will emerge in a daring new choreography from circus visionary Yaron Lifschitz\, weaving the music of Vivaldi\, Falconieri\, Caccini and Corelli into a sensual\, surprising and passionate experience\, a show that dances to its own unique tune. \n10% of ticket sales will go to Oberon Arts Council\, for their work at Oberon Hospital.
URL:https://malachigilmorehall.com.au/event/film-screening-italian-baroque-circa-australian-theatre-live-stage-to-screen/
LOCATION:The Malachi Gilmore Hall\, 124 Oberon Street\, Oberon\, NSW\, 2787\, Australia
CATEGORIES:Film Screening
ATTACH;FMTTYPE=image/png:https://malachigilmorehall.com.au/wp-content/uploads/2022/08/Circa.png
END:VEVENT
BEGIN:VEVENT
DTSTART;TZID=Australia/Sydney:20221008T190000
DTEND;TZID=Australia/Sydney:20221008T214500
DTSTAMP:20260424T210114
CREATED:20220816T105643Z
LAST-MODIFIED:20220825T035650Z
UID:1343-1665255600-1665265500@malachigilmorehall.com.au
SUMMARY:Catherine Britt - Malachi Nights
DESCRIPTION:Catherine Britt has both a voice that instantly gets your attention\, and a worthy story to tell that truly keeps her audience enthralled. Catherine’s new album Home Truths is direct\, personal\, and from the heart – just the way Catherine sings!  Home Truths is Catherine’s first release in 20 years as a completely independent artist – lots of great songs and some mighty fine singing.
URL:https://malachigilmorehall.com.au/event/catherine-britt-malachi-nights/
LOCATION:The Malachi Gilmore Hall\, 124 Oberon Street\, Oberon\, NSW\, 2787\, Australia
CATEGORIES:Live Music
ATTACH;FMTTYPE=image/jpeg:https://malachigilmorehall.com.au/wp-content/uploads/2022/08/CBritt-MGH.jpg
END:VEVENT
BEGIN:VEVENT
DTSTART;TZID=Australia/Sydney:20221002T150000
DTEND;TZID=Australia/Sydney:20221002T163000
DTSTAMP:20260424T210114
CREATED:20220822T083014Z
LAST-MODIFIED:20220822T083014Z
UID:1431-1664722800-1664728200@malachigilmorehall.com.au
SUMMARY:FILM SCREENING: The Pulse (Australian Theatre Live - Stage to Screen)
DESCRIPTION:The Malachi is bringing the best of Austalian theatre to our brand-new big-screen\, with film screenings from the Sydney Festival 2022 Roadshow. \nAs part of the 2022 Sydney Festival\, one of Australia’s finest boundary-pushing circus companies\, Gravity & Other Myths\, presented their most ambitious show to date\, The Pulse\, which is packed to the brim with visceral\, poetic and heart-stopping feats of strength and agility. \nReturning to Sydney Festival following their multi-award-winning work Backbone (Sydney Festival 2018)\, The Pulse brings together 30 acrobats and a 30 strong choir into “one shimmering mass [with] spectacular systems and organisms of muscle\, bone and voice” says Darcy Grant\, Creative Lead for Gravity & Other Myths. \nWatch as a mountain of bodies crumbles into an ocean of voice and towering human structures glide with precision through five kilometres of pulsing computer-controlled web\, complete with reactive\, intense lighting design and composer Ekrem Eli Phoenix’s soundtrack\, made to mimic the beat of your (racing) pulse. \n10% of all ticket sales will go to Oberon Arts Council\, for their work at Oberon Hospital.
URL:https://malachigilmorehall.com.au/event/film-screening-the-pulse-australian-theatre-live-stage-to-screen/
LOCATION:The Malachi Gilmore Hall\, 124 Oberon Street\, Oberon\, NSW\, 2787\, Australia
CATEGORIES:Film Screening
ATTACH;FMTTYPE=image/png:https://malachigilmorehall.com.au/wp-content/uploads/2022/08/ThePulse_sm.png
END:VEVENT
BEGIN:VEVENT
DTSTART;TZID=Australia/Sydney:20220925T150000
DTEND;TZID=Australia/Sydney:20220925T163000
DTSTAMP:20260424T210114
CREATED:20220822T083116Z
LAST-MODIFIED:20220822T083116Z
UID:1433-1664118000-1664123400@malachigilmorehall.com.au
SUMMARY:FILM SCREENING: “宿 (Stay)” (Australian Theatre Live - Stage to Screen)
DESCRIPTION:The Malachi is bringing the best of Austalian theatre to our brand-new big-screen\, with film screenings from the Sydney Festival 2022 Roadshow. \nWhen two skeletons are discovered in the dried-up creek bed of a remote Queensland farm\, the fates of three women – thousands of kilometres apart – become deeply intertwined. From a densely packed Singapore housing block to the vast Tagalaka country of outback Australia\, 宿 (stay) delicately unearths buried trauma and fragile connections that lie at the heart of contemporary life. A hauntingly beautiful blend of music\, dance\, film\, design and dialogue\, 宿 (stay) is built on the real-life experiences of the artists. \n10% of ticket sales will go to Oberon Arts Council\, for their work at Oberon Hospital.
URL:https://malachigilmorehall.com.au/event/film-screening-%e5%ae%bf-stay-australian-theatre-live-stage-to-screen/
LOCATION:The Malachi Gilmore Hall\, 124 Oberon Street\, Oberon\, NSW\, 2787\, Australia
CATEGORIES:Film Screening
ATTACH;FMTTYPE=image/png:https://malachigilmorehall.com.au/wp-content/uploads/2022/08/Stay.png
END:VEVENT
BEGIN:VEVENT
DTSTART;TZID=Australia/Sydney:20220924T193000
DTEND;TZID=Australia/Sydney:20220924T213000
DTSTAMP:20260424T210114
CREATED:20220816T105343Z
LAST-MODIFIED:20220816T105343Z
UID:1341-1664047800-1664055000@malachigilmorehall.com.au
SUMMARY:The Safety of Life at Sea - Live & Kicking
DESCRIPTION:The Safety of Life at Sea bring a heady mix of original blues\, soul\, 60’s/70’s rock and Americana. This four piece band take a leaf out of the books of Motown and Stax\, throwing in some pages from the book of Southern Blues left at the crossroads. Mix this up into a musical gumbo and you have the sound of a band that went for a weekend in New Orleans and never quite came back.
URL:https://malachigilmorehall.com.au/event/the-safety-of-life-at-sea-live-kicking/
LOCATION:The Malachi Gilmore Hall\, 124 Oberon Street\, Oberon\, NSW\, 2787\, Australia
CATEGORIES:Live Music
ATTACH;FMTTYPE=image/jpeg:https://malachigilmorehall.com.au/wp-content/uploads/2022/07/SOLAS_Malachi_MGH.jpg
END:VEVENT
BEGIN:VEVENT
DTSTART;VALUE=DATE:20220924
DTEND;VALUE=DATE:20221010
DTSTAMP:20260424T210114
CREATED:20220818T124403Z
LAST-MODIFIED:20220923T224313Z
UID:1392-1663977600-1665359999@malachigilmorehall.com.au
SUMMARY:Weaving the Malachi’s Grand Drape
DESCRIPTION:With a nod to the Malachi’s past use as a wool handler’s warehouse\, our plan to engage Emma Shepherd from Sundance Studio to create a commissioned weaving for the newly dressed stage seems fitting. During the spring school holiday fortnight\, Emma will set up her 8 shaft loom and weave her design in 100% wool. Alongside Emma\, local wool spinners will set up their spinning wheels to make yarn from fleeces donated by local farmer Cress Dawson.
URL:https://malachigilmorehall.com.au/event/weaving-the-malachis-grand-drape/
LOCATION:The Malachi Gilmore Hall\, 124 Oberon Street\, Oberon\, NSW\, 2787\, Australia
CATEGORIES:Textiles
ATTACH;FMTTYPE=image/png:https://malachigilmorehall.com.au/wp-content/uploads/2022/08/WeavingGD.png
END:VEVENT
BEGIN:VEVENT
DTSTART;TZID=Australia/Sydney:20220910T100000
DTEND;TZID=Australia/Sydney:20220910T130000
DTSTAMP:20260424T210114
CREATED:20220816T111310Z
LAST-MODIFIED:20220816T111342Z
UID:1349-1662804000-1662814800@malachigilmorehall.com.au
SUMMARY:Big Oberon Bake Off & Art Show
DESCRIPTION:Join us to support Becky House in her Stars of Bathurst fundraiser to fight cancer. Come to the Malachi to enjoy the spring themed displays from our local artists and sample the best baked goods our Oberon locals and businesses have to offer! \nPRIZES WILL BE AWARDED TO THE WINNERS OF THE BAKE OFF AND ART COMPETITION \nTo enter or enquire please email us at events@kennyspring.com.au
URL:https://malachigilmorehall.com.au/event/big-oberon-bake-off-art-show/
LOCATION:The Malachi Gilmore Hall\, 124 Oberon Street\, Oberon\, NSW\, 2787\, Australia
CATEGORIES:Fund Raiser
ATTACH;FMTTYPE=image/png:https://malachigilmorehall.com.au/wp-content/uploads/2022/08/BOBO.png
END:VEVENT
BEGIN:VEVENT
DTSTART;TZID=Australia/Sydney:20220826T190000
DTEND;TZID=Australia/Sydney:20220826T213000
DTSTAMP:20260424T210114
CREATED:20220815T225931Z
LAST-MODIFIED:20220815T225931Z
UID:1334-1661540400-1661549400@malachigilmorehall.com.au
SUMMARY:Smith & Jones + Chloe Swannell - Live & Kicking
DESCRIPTION:Smith & Jones met at a record store in Bathurst. Eight years later and two albums on\, Abby (piano) & Sophie (guitar) have toured extensively and appeared at many festivals including Tamworth and Inland Sea of Sound.  Smith & Jones will be joined by Cellist Ella J adding another dimension to the sound.  Opening the night will be Oberon local Chloe Swannell performing a set of her original songs.
URL:https://malachigilmorehall.com.au/event/smith-jones-chloe-swannell-live-kicking/
LOCATION:The Malachi Gilmore Hall\, 124 Oberon Street\, Oberon\, NSW\, 2787\, Australia
CATEGORIES:Live Music
ATTACH;FMTTYPE=image/jpeg:https://malachigilmorehall.com.au/wp-content/uploads/2022/07/SmithJonesChloeSwannell_Malachi_Instagram.jpg
END:VEVENT
END:VCALENDAR