BEGIN:VCALENDAR
VERSION:2.0
PRODID:-//Malachi Gilmore Hall - ECPv6.15.10//NONSGML v1.0//EN
CALSCALE:GREGORIAN
METHOD:PUBLISH
X-WR-CALNAME:Malachi Gilmore Hall
X-ORIGINAL-URL:https://malachigilmorehall.com.au
X-WR-CALDESC:Events for Malachi Gilmore Hall
REFRESH-INTERVAL;VALUE=DURATION:PT1H
X-Robots-Tag:noindex
X-PUBLISHED-TTL:PT1H
BEGIN:VTIMEZONE
TZID:Australia/Sydney
BEGIN:STANDARD
TZOFFSETFROM:+1100
TZOFFSETTO:+1000
TZNAME:AEST
DTSTART:20220402T160000
END:STANDARD
BEGIN:DAYLIGHT
TZOFFSETFROM:+1000
TZOFFSETTO:+1100
TZNAME:AEDT
DTSTART:20221001T160000
END:DAYLIGHT
BEGIN:STANDARD
TZOFFSETFROM:+1100
TZOFFSETTO:+1000
TZNAME:AEST
DTSTART:20230401T160000
END:STANDARD
BEGIN:DAYLIGHT
TZOFFSETFROM:+1000
TZOFFSETTO:+1100
TZNAME:AEDT
DTSTART:20230930T160000
END:DAYLIGHT
BEGIN:STANDARD
TZOFFSETFROM:+1100
TZOFFSETTO:+1000
TZNAME:AEST
DTSTART:20240406T160000
END:STANDARD
BEGIN:DAYLIGHT
TZOFFSETFROM:+1000
TZOFFSETTO:+1100
TZNAME:AEDT
DTSTART:20241005T160000
END:DAYLIGHT
END:VTIMEZONE
BEGIN:VEVENT
DTSTART;TZID=Australia/Sydney:20230126T130000
DTEND;TZID=Australia/Sydney:20230126T150000
DTSTAMP:20260424T135222
CREATED:20230110T124258Z
LAST-MODIFIED:20230110T135617Z
UID:1582-1674738000-1674745200@malachigilmorehall.com.au
SUMMARY:Australia Day Lunch - by The Hungry Hare
DESCRIPTION:The Hungry Hare\, Oberon’s pop-up dining experience\, presents an Australia Day Lunch at the Malachi on January 26th\, starting at 1 PM sharp.  Following hors d’oeuvres in the Foyer\, lunch is a set menu served at a long table inside the Malachi’s historic hall. Enjoy a friendly celebration of the most wonderful country in the world – in Edmond’s unique relaxed style. \nSet Menu:\n~ Wild caught large Queensland prawns with summer seafood sauce ~\n~ Great Aussie Pies ~\n~ Three classic Australian salads ~\n~​ Pavlova filled with homemade passionfruit ice cream and summer fruits topped with honey cream ~\n~ Red and white wine and bubbly available at modest prices from the bar​ ~ \nBooking essential by phone directly with Edmond Power\, The Hungry Hare\, on 0432 883 150. \n$65 pp on the door.
URL:https://malachigilmorehall.com.au/event/australia-day-long-lunch/
LOCATION:The Malachi Gilmore Hall\, 124 Oberon Street\, Oberon\, NSW\, 2787\, Australia
CATEGORIES:Long Lunch
ATTACH;FMTTYPE=image/png:https://malachigilmorehall.com.au/wp-content/uploads/2023/01/The-Hungry-Hare-ssm.png
END:VEVENT
END:VCALENDAR