BEGIN:VCALENDAR
VERSION:2.0
PRODID:-//Malachi Gilmore Hall - ECPv6.15.10//NONSGML v1.0//EN
CALSCALE:GREGORIAN
METHOD:PUBLISH
X-WR-CALNAME:Malachi Gilmore Hall
X-ORIGINAL-URL:https://malachigilmorehall.com.au
X-WR-CALDESC:Events for Malachi Gilmore Hall
REFRESH-INTERVAL;VALUE=DURATION:PT1H
X-Robots-Tag:noindex
X-PUBLISHED-TTL:PT1H
BEGIN:VTIMEZONE
TZID:Australia/Sydney
BEGIN:STANDARD
TZOFFSETFROM:+1100
TZOFFSETTO:+1000
TZNAME:AEST
DTSTART:20240406T160000
END:STANDARD
BEGIN:DAYLIGHT
TZOFFSETFROM:+1000
TZOFFSETTO:+1100
TZNAME:AEDT
DTSTART:20241005T160000
END:DAYLIGHT
BEGIN:STANDARD
TZOFFSETFROM:+1100
TZOFFSETTO:+1000
TZNAME:AEST
DTSTART:20250405T160000
END:STANDARD
BEGIN:DAYLIGHT
TZOFFSETFROM:+1000
TZOFFSETTO:+1100
TZNAME:AEDT
DTSTART:20251004T160000
END:DAYLIGHT
BEGIN:STANDARD
TZOFFSETFROM:+1100
TZOFFSETTO:+1000
TZNAME:AEST
DTSTART:20260404T160000
END:STANDARD
BEGIN:DAYLIGHT
TZOFFSETFROM:+1000
TZOFFSETTO:+1100
TZNAME:AEDT
DTSTART:20261003T160000
END:DAYLIGHT
END:VTIMEZONE
BEGIN:VEVENT
DTSTART;TZID=Australia/Sydney:20251012T140000
DTEND;TZID=Australia/Sydney:20251012T154500
DTSTAMP:20260424T091931
CREATED:20250922T142854Z
LAST-MODIFIED:20250923T101631Z
UID:2547-1760277600-1760283900@malachigilmorehall.com.au
SUMMARY:The Heart Collectors
DESCRIPTION:From acoustic harmony lead ballads to Bowie-esque sonic soundscapes\, Australian four piece ‘Epic Folk’ group The Heart Collectors capture the essence of inspiration\, honesty of love\, and the nature of the cosmos in their music. \nFrom humble beginnings in regional NSW\, the last 7 years have seen the band regularly sought out by some of the biggest international music conferences and festivals in the world\, including South by South-West\, Folk Alliance International\, NAMM\, Canadian Music Week\, and Global Music Match. They have wowed audiences\, representing Australia with their tight vocal harmonies\, intricately beautiful musicianship\, and larger than life stage presence and performance. Following the success of their “Austin To Boston” USA tour in early 2024 with 13 sold out shows\, the band’s tour was extended for an additional 6 months following up invitations to perform across Canada and the USA. \nThe band completed their 9 month headline USA tour with their album The Space Between being named a finalist for Best Album at the International Folk Music Awards 2025\, alongside Sierra Ferrell\, Kaia Kater\, and Aoife O’Donovan. \nCatch The Heart Collectors live for an unforgettable afternoon of four part vocal harmonies and an electrifying performance at the historic Malachi Gilmore Hall. \nGet Tickets
URL:https://malachigilmorehall.com.au/event/the-heart-collectors/
LOCATION:The Malachi Gilmore Hall\, 124 Oberon Street\, Oberon\, NSW\, 2787\, Australia
CATEGORIES:Folk Music,Live Music
ATTACH;FMTTYPE=image/png:https://malachigilmorehall.com.au/wp-content/uploads/2025/09/THC-Colour.png
ORGANIZER;CN="Malachi Gilmore Hall":MAILTO:info@malachigilmorehall.com.au
END:VEVENT
END:VCALENDAR