BEGIN:VCALENDAR
VERSION:2.0
PRODID:-//Malachi Gilmore Hall - ECPv6.15.10//NONSGML v1.0//EN
CALSCALE:GREGORIAN
METHOD:PUBLISH
X-WR-CALNAME:Malachi Gilmore Hall
X-ORIGINAL-URL:https://malachigilmorehall.com.au
X-WR-CALDESC:Events for Malachi Gilmore Hall
REFRESH-INTERVAL;VALUE=DURATION:PT1H
X-Robots-Tag:noindex
X-PUBLISHED-TTL:PT1H
BEGIN:VTIMEZONE
TZID:Australia/Sydney
BEGIN:STANDARD
TZOFFSETFROM:+1100
TZOFFSETTO:+1000
TZNAME:AEST
DTSTART:20220402T160000
END:STANDARD
BEGIN:DAYLIGHT
TZOFFSETFROM:+1000
TZOFFSETTO:+1100
TZNAME:AEDT
DTSTART:20221001T160000
END:DAYLIGHT
BEGIN:STANDARD
TZOFFSETFROM:+1100
TZOFFSETTO:+1000
TZNAME:AEST
DTSTART:20230401T160000
END:STANDARD
BEGIN:DAYLIGHT
TZOFFSETFROM:+1000
TZOFFSETTO:+1100
TZNAME:AEDT
DTSTART:20230930T160000
END:DAYLIGHT
BEGIN:STANDARD
TZOFFSETFROM:+1100
TZOFFSETTO:+1000
TZNAME:AEST
DTSTART:20240406T160000
END:STANDARD
BEGIN:DAYLIGHT
TZOFFSETFROM:+1000
TZOFFSETTO:+1100
TZNAME:AEDT
DTSTART:20241005T160000
END:DAYLIGHT
BEGIN:STANDARD
TZOFFSETFROM:+1100
TZOFFSETTO:+1000
TZNAME:AEST
DTSTART:20250405T160000
END:STANDARD
BEGIN:DAYLIGHT
TZOFFSETFROM:+1000
TZOFFSETTO:+1100
TZNAME:AEDT
DTSTART:20251004T160000
END:DAYLIGHT
END:VTIMEZONE
BEGIN:VEVENT
DTSTART;TZID=Australia/Sydney:20241122T173000
DTEND;TZID=Australia/Sydney:20241122T190000
DTSTAMP:20260424T074522
CREATED:20240903T132214Z
LAST-MODIFIED:20241001T111643Z
UID:2123-1732296600-1732302000@malachigilmorehall.com.au
SUMMARY:Oberon Chamber Music Festival - Community Gala Concert
DESCRIPTION:All are welcome to the Malachi for a free Gala concert to kick off a fantastic weekend of music. \nOur festival weekend kicks off with a free Gala concert featuring mezzo soprano Ashlyn Tymms\, Emma Jardine (violin)\, Tobias Breider (viola)\, Rachel Siu (cello)\, Kees Boersma (double bass)\, Peter Jenkin (clarinet) and Bernadette Harvey (piano)\, to give you a taste of what’s in store over the weekend at the Malachi Gilmore Hall. Bring your family – no ticket required! Courtesy of Oberon Council. \nNo tickets or booking required for this free concert.
URL:https://malachigilmorehall.com.au/event/oberon-chamber-music-festival-community-gala-concert/
LOCATION:The Malachi Gilmore Hall\, 124 Oberon Street\, Oberon\, NSW\, 2787\, Australia
CATEGORIES:Classical Music,Live Music
ATTACH;FMTTYPE=image/png:https://malachigilmorehall.com.au/wp-content/uploads/2024/09/ocmf24-gala-5tet.png
ORGANIZER;CN="Oberon Chamber Music Festival":MAILTO:info@oberonchambermusicfestival.com.au/
END:VEVENT
BEGIN:VEVENT
DTSTART;TZID=Australia/Sydney:20231126T143000
DTEND;TZID=Australia/Sydney:20231126T160000
DTSTAMP:20260424T074522
CREATED:20230420T133025Z
LAST-MODIFIED:20231119T122357Z
UID:1755-1701009000-1701014400@malachigilmorehall.com.au
SUMMARY:Oberon Chamber Music Festival - Piano with String Quintet
DESCRIPTION:Get Tickets >\nFeaturing Emma Jardine (violin)\, Emily Long (violin)\, Tobias Breider (viola). Rachel Siu (cello)\, Kees Boersma (double bass)\, Bernadette Harvey (piano) \nProgramme: \n\n\n\nAnton DVORÁK(1841-1904)\nString Quintet No. 2 in G major\, op.77i. Allegro con fuoco \nii. Scherzo. Allegro vivace \niii. Poco andante \niv. Finale. Allegro assa\n\n\n\nFranz SCHUBERT(1797-1828)\nPiano Quintet in A major\, D667 (‘the Trout’)i. Allegro vivace \nii. Andante \niii.Scherzo: Presto \niv. Andantino -Allegretto \nv. Allegro giusto
URL:https://malachigilmorehall.com.au/event/oberon-chamber-music-festival-2023-concert-4/
LOCATION:The Malachi Gilmore Hall\, 124 Oberon Street\, Oberon\, NSW\, 2787\, Australia
CATEGORIES:Classical Music,Live Music
ATTACH;FMTTYPE=image/png:https://malachigilmorehall.com.au/wp-content/uploads/2023/04/concert4w.png
END:VEVENT
BEGIN:VEVENT
DTSTART;TZID=Australia/Sydney:20231126T110000
DTEND;TZID=Australia/Sydney:20231126T123000
DTSTAMP:20260424T074522
CREATED:20230420T132416Z
LAST-MODIFIED:20231115T130011Z
UID:1749-1700996400-1701001800@malachigilmorehall.com.au
SUMMARY:Oberon Chamber Music Festival - Diana Doherty & Bernadette Harvey
DESCRIPTION:Get Tickets >\nAn oboe recital given by internationally recognised Diana Doherty and Streeton Trio’s Bernadette Harvey on piano. \nDo not miss this extraordinary opportunity to hear these world-class musicians. \nProgramme: \n\n\n\nRobert SCHUMANN (1810-1856)\nThree Romances op.94 (1849)i. Nicht schnell \nii. Einfach\, innig \niii. Nicht schnell\n\n\n\nLili BOULANGER(1893-1919)\nThree Pieces for Piano (1914)(arr. Diana Doherty) \ni. D’un jardin clair \nii. D’un vieux jardin \niii. Cortège\n\n\n\nClara SCHUMANN(1819-1896)\nThree Romances\, op.22 (1853) \ni. Andante molto \nii. Allegretto: mit zartem \niii. Leidenschaftlich schnell\n\n\n\nMarina DRANISCHNIKOVA(1929-1994)\nPoème (1953)Andante misterioso\n\n\n\nLili BOULANGER (1893-1919)\nNocturne for Violin and Piano (1911)(arr. Diana Doherty)Assez lent\n\n\n\nLachlan SKIPWORTH(AUS)\nOboe Quartet(with Emma Jardine and Rachel Siu)\n\n\n\n\n 
URL:https://malachigilmorehall.com.au/event/oberon-chamber-music-festival-2023-concert-3/
LOCATION:The Malachi Gilmore Hall\, 124 Oberon Street\, Oberon\, NSW\, 2787\, Australia
CATEGORIES:Classical Music,Live Music
ATTACH;FMTTYPE=image/png:https://malachigilmorehall.com.au/wp-content/uploads/2023/04/concert3w-1.png
END:VEVENT
BEGIN:VEVENT
DTSTART;TZID=Australia/Sydney:20231126T100000
DTEND;TZID=Australia/Sydney:20231126T110000
DTSTAMP:20260424T074522
CREATED:20230824T131012Z
LAST-MODIFIED:20230825T024742Z
UID:1861-1700992800-1700996400@malachigilmorehall.com.au
SUMMARY:Meet\, Greet & Eat with Andy Bromberger
DESCRIPTION:Get Tickets >\nAndy Bromberger\, from Coffee\, Cake & Culture\, offers a delightful experience for festivalgoers for each day of the Festival.  Come early to enjoy an insightful presentation\, giving you a deeper understanding of the music you will hear at the two concerts of the day. \nAndy will also bring in one or two of the performing musicians for interviews\, peeking into their creative minds and learning about their perspectives – like getting a backstage pass to the music-making process! \nThere will also be yummy food for sale\, so not only do you get to meet the music and greet the musicians\, but you also get to treat your taste buds too. \nAndy Bromberger’s events are like a little haven for music aficionados – informative\, social\, and absolutely delightful. \nAll are welcome – no booking is required\, however we would appreciate knowing if you are planning to attend. Please let us know you are attending by filling out the ticket booking page. Many thanks!.
URL:https://malachigilmorehall.com.au/event/meet-greet-eat-with-andy-bromberger-sun/
LOCATION:The Malachi Gilmore Hall\, 124 Oberon Street\, Oberon\, NSW\, 2787\, Australia
CATEGORIES:Classical Music
ATTACH;FMTTYPE=image/png:https://malachigilmorehall.com.au/wp-content/uploads/2023/08/Meet-Greet-and-Eat-500-x-250-px.png
END:VEVENT
BEGIN:VEVENT
DTSTART;TZID=Australia/Sydney:20231125T193000
DTEND;TZID=Australia/Sydney:20231125T210000
DTSTAMP:20260424T074522
CREATED:20230420T131941Z
LAST-MODIFIED:20231115T125934Z
UID:1746-1700940600-1700946000@malachigilmorehall.com.au
SUMMARY:Oberon Chamber Music Festival - The Streeton Trio
DESCRIPTION:Get Tickets >\nThe internationally-acclaimed Streeton Trio (Emma Jardine\, violin\, Rachel Siu\, cello\, and Bernadette Harvey\, piano) performs a recital of chamber music masterpieces. \nProgramme: \n\n\n\nFranz SCHUBERT (1797-1828)\nPiano Trio in B-flat major\, D. 28 (‘Sonatensatz’)i. Allegro\n\n\n\nLudwig van BEETHOVEN (1770-1827)\nPiano Trio in C minor Op. 1 No. 3i. Allegro con brio \nii. Andante cantabile con Variazioni \niii. Minuetto quasi Allegro \niv. Finale prestissimo\n\n\n\nMaurice RAVEL (1875- 1937)\nPiano Trio in A minori. Modéré \nii. Pantoum: Assez vif \niii. Passacaille: Trés large \niv. Final: Animé\n\n\n\n 
URL:https://malachigilmorehall.com.au/event/oberon-chamber-music-festival-2023-concert-2/
LOCATION:The Malachi Gilmore Hall\, 124 Oberon Street\, Oberon\, NSW\, 2787\, Australia
CATEGORIES:Classical Music,Live Music
ATTACH;FMTTYPE=image/jpeg:https://malachigilmorehall.com.au/wp-content/uploads/2023/04/Streeton-Trio-sm.jpg
END:VEVENT
BEGIN:VEVENT
DTSTART;TZID=Australia/Sydney:20231125T140000
DTEND;TZID=Australia/Sydney:20231125T153000
DTSTAMP:20260424T074522
CREATED:20230420T131713Z
LAST-MODIFIED:20231115T125825Z
UID:1743-1700920800-1700926200@malachigilmorehall.com.au
SUMMARY:Oberon Chamber Music Festival - Susannah Lawergren\, Emily Granger & Peter Jenkin
DESCRIPTION:Get Tickets >\nFeaturing Susannah Lawergren (soprano)\, Peter Jenkin (clarinet) and Emily Granger (harp) \nSusannah and Emily will be performing with Oberon’s very own Peter Jenkin: \nProgramme: \n\n\n\nFranz SCHUBERT (1796-1828)\nShepherd on the Rock\n\n\n\n\nAstor PIAZZOLA (1921-1992)\nTangos\ni. Cafe 1930\nii. Libertango\n\n \n\n\nBéla KOVÁCS (1937-2021)\nSholem-Alekhem\, Rov Feidman!\n\n\n\n\nRoss EDWARDS (1943)\nFlame of the Sun *world premiere\n\n\n\n\nElena KATS-CHERNIN (1957)\nEliza Aria\n\n\n\n\nClaude DEBUSSY (1862-1918)\nBeau Soir\n\n\n\nGabriel FAURÉ (1845-1924)\nAprès un Rêve\n\n\n\n\nCarl VINE (1954)\nLove me Sweet\n\n\n\n\nRichard STRAUSS (1864-1949)\nMorgen\n\n\n\n\nEric SATIE (1866-1925)\nGymnopedie No. 1\n\n\n\n\nLaura ZAERR (USA)\nRiver Right Rhumba\n\n\n\nGiacomo MEYERBEER (1791-1864)\nHirtenlied (The Shepherdess’ Song)
URL:https://malachigilmorehall.com.au/event/oberon-chamber-music-festival-2023-concert-1/
LOCATION:The Malachi Gilmore Hall\, 124 Oberon Street\, Oberon\, NSW\, 2787\, Australia
CATEGORIES:Classical Music,Live Music
ATTACH;FMTTYPE=image/png:https://malachigilmorehall.com.au/wp-content/uploads/2023/04/concert1.png
END:VEVENT
BEGIN:VEVENT
DTSTART;TZID=Australia/Sydney:20231125T130000
DTEND;TZID=Australia/Sydney:20231125T140000
DTSTAMP:20260424T074522
CREATED:20230824T130613Z
LAST-MODIFIED:20230825T024918Z
UID:1858-1700917200-1700920800@malachigilmorehall.com.au
SUMMARY:Meet\, Greet & Eat with Andy Bromberger
DESCRIPTION:Get Tickets >\nAndy Bromberger\, from Coffee\, Cake & Culture\, offers a delightful experience for festivalgoers for each day of the Festival.  Come early to enjoy an insightful presentation\, giving you a deeper understanding of the music you will hear at the two concerts of the day. \nAndy will also bring in one or two of the performing musicians for interviews\, peeking into their creative minds and learning about their perspectives – like getting a backstage pass to the music-making process! \nThere will also be yummy food for sale\, so not only do you get to meet the music and greet the musicians\, but you also get to treat your taste buds too. \nAndy Bromberger’s events are like a little haven for music aficionados – informative\, social\, and absolutely delightful. \nAll are welcome – no booking is required\, however we would appreciate knowing if you are planning to attend. Please let us know you are attending by filling out the ticket booking page. Many thanks!.
URL:https://malachigilmorehall.com.au/event/meet-greet-and-eat-with-andy-bromberger-sat/
LOCATION:The Malachi Gilmore Hall\, 124 Oberon Street\, Oberon\, NSW\, 2787\, Australia
CATEGORIES:Classical Music
ATTACH;FMTTYPE=image/png:https://malachigilmorehall.com.au/wp-content/uploads/2023/08/Meet-Greet-and-Eat-500-x-250-px.png
END:VEVENT
BEGIN:VEVENT
DTSTART;TZID=Australia/Sydney:20231124T173000
DTEND;TZID=Australia/Sydney:20231124T183000
DTSTAMP:20260424T074522
CREATED:20230420T125941Z
LAST-MODIFIED:20231123T204157Z
UID:1735-1700847000-1700850600@malachigilmorehall.com.au
SUMMARY:Oberon Chamber Music Festival - Community Free Concert - VENUE CHANGE
DESCRIPTION:All are welcome to a Free concert at the Malachi Gilmore Hall (change of venue from the Common due to the weather forecast 🙁  Bring your family and settle down to some exquisite classical music!  The Foyer Bar will be open\, and Coffee On The Go will be parked in the back yard! \nOberon Chamber Music Festival is thrilled to bring this beautiful free performance to kick off a fantastic weekend of music at the Malachi Gilmore Hall. \nMusicians: \nSusannah Lawergren (soprano)\nPeter Jenkin (clarinet)\nEmily Granger (harp)\nEmma Jardine (violin)\nEmily Long (violin)\nTobias Breider (viola)\nRachel Siu (cello) \nProgramme: \nFranz SCHUBERT: Shepherd on the Rock \nJohannes BRAHMS: Piano Quartet No. 1 in G minor\, 4th Mvt \nFranz SCHUBERT: Trio in B-flat Major D471 \nCamille SAINT-SAENS: La Danse Macabre \nBéla KOVÁCS: Sholem Alekhem\, Rov Feidman! \nDeborah HENSON-CONANT: The Nightingale (solo harp) \nCindy BLEVINS: Quietitude (lever harp & clarinet) \nAntonin DVORAK: Terzetto for two violins and viola \nElena KATS-CHERNIN: Eliza Aria
URL:https://malachigilmorehall.com.au/event/oberon-chamber-music-festival-community-free-concert/
LOCATION:The Malachi Gilmore Hall\, 124 Oberon Street\, Oberon\, NSW\, 2787\, Australia
CATEGORIES:Classical Music,Live Music
ATTACH;FMTTYPE=image/jpeg:https://malachigilmorehall.com.au/wp-content/uploads/2023/04/Streeton-Trio-banner.jpg
END:VEVENT
BEGIN:VEVENT
DTSTART;TZID=Australia/Sydney:20231124T123000
DTEND;TZID=Australia/Sydney:20231124T143000
DTSTAMP:20260424T074522
CREATED:20230420T130725Z
LAST-MODIFIED:20230812T124253Z
UID:1739-1700829000-1700836200@malachigilmorehall.com.au
SUMMARY:Oberon Chamber Music Festival - Schools Concerts
DESCRIPTION:An afternoon of free concerts at the Malachi for students of the Oberon community’s local schools – at 12:30 pm to 1:15 pm for secondary schools\, and at 1:45 pm to 2:30 pm for primary schools. \nThis event is for school excursions only and is not open to the general public. \nMusicians: \nPeter Jenkin (clarinet)\nEmma Scholl (flute) TBC\nEmily Granger (harp)\nEmma Jardine (violin)\nTobias Breider (viola)\nRachel Siu (cello)\nBernadette Harvey (piano)
URL:https://malachigilmorehall.com.au/event/oberon-chamber-music-festival-schools-concerts/
LOCATION:The Malachi Gilmore Hall\, 124 Oberon Street\, Oberon\, NSW\, 2787\, Australia
CATEGORIES:Classical Music,Live Music
ATTACH;FMTTYPE=image/jpeg:https://malachigilmorehall.com.au/wp-content/uploads/2023/04/streeton-trio-schools.jpg
END:VEVENT
BEGIN:VEVENT
DTSTART;TZID=Australia/Sydney:20231007T160000
DTEND;TZID=Australia/Sydney:20231007T173000
DTSTAMP:20260424T074522
CREATED:20230420T141306Z
LAST-MODIFIED:20230615T144841Z
UID:1758-1696694400-1696699800@malachigilmorehall.com.au
SUMMARY:The Surge
DESCRIPTION:Get Tickets > \nImmerse yourself in poignant social revelations and shameless ’90s nostalgia. \nThe Surge is a multi-layered feast of music\, ideas\, lessons from the past and hope for the decade ahead\, brought to you by Australia’s prolific new music group Ensemble Offspring and leading guitarists Andrew Blanch and Vladimir Gorbach. Together\, they reignite two ’90s classics by iconic Australians Peter Sculthorpe and Nigel Westlake\, alongside five new commissions reflecting on the cultural\, environmental and political situations Australia finds itself in today. \nThese thoughtful and engaging works – composed especially for The Surge by Aussies Robert Davidson\, Felicity Wilcox and Jessica Wells – examine everything from human-induced climate change to the pervasive influence of the internet. With stunning live visuals by the ever-inventive Peachey & Mosig\, immerse yourself in poignant social revelations and shameless ’90s nostalgia! \nPaul Mac – Redfern Address (2019)\nvideo \nPeter Sculthorpe – Tropic (1992)\nflute\, clarinet\, violin\, cello\, piano\, percussion \nJessica Wells – Diminishing Species (2021)\nflute\, clarinet\, violin\, cello\, piano\, percussion \nFelicity Wilcox – Tipping Point (2021)\nflute\, clarinet\, violin\, cello\, piano\, percussion \nJessica Wells – Technophiles (2021)\nflute\, clarinet\, violin\, cello\, piano\, percussion\, tape \nNigel Westlake – Tall tales but true (1992)\nflute\, clarinet\, violin\, cello\, piano\, percussion\, tape \nJessica Wells – This is the Nineties (2021)\nflute\, clarinet\, violin\, cello\, piano\, percussion \nRobert Davidson – Netsurf (2021)\nflute\, clarinet\, violin\, cello\, piano\, percussion\, tape \nClaire Edwardes (Artistic Director\, percussion)\nJason Noble (clarinets)\nSusie Bishop (violin)\nSonya Lifschitz (piano)\nAndrew Blanch (guitar)\nVladimir Gorbach (guitar)\nBen Ward (double bass)\nPaul Mosig (video) \n  \nDuration: 70 minutes
URL:https://malachigilmorehall.com.au/event/ensemble-offspring-the-surge/
LOCATION:The Malachi Gilmore Hall\, 124 Oberon Street\, Oberon\, NSW\, 2787\, Australia
CATEGORIES:Classical Music,Live Music,New Music
ATTACH;FMTTYPE=image/png:https://malachigilmorehall.com.au/wp-content/uploads/2023/04/Jason2.png
END:VEVENT
BEGIN:VEVENT
DTSTART;TZID=Australia/Sydney:20230402T163000
DTEND;TZID=Australia/Sydney:20230402T181500
DTSTAMP:20260424T074522
CREATED:20230213T103622Z
LAST-MODIFIED:20230228T205859Z
UID:1616-1680453000-1680459300@malachigilmorehall.com.au
SUMMARY:Oberon Chamber Music Festival Launch Event
DESCRIPTION:Come for a taste of the upcoming Oberon Chamber Music Festival with a preview concert featuring some of the world-class musicians who will be performing at the main festival to be held on 24 – 26 November 2023 at the Malachi. \n4.30pm ~ Doors open and foyer bar open\n5.00pm ~ String Trio performance: \nF. Schubert\nString Trio in B flat major\, D.471\nL. van Beethoven\nString Trio in C minor\, Op.9 No.3\nE. Dohnányi\nSerenade in C major\, Op.10 (Romance) \n\n5.45pm ~ Meet the musicians:\nMeet members of the Streeton Trio\, violinist Emma Jardine and cellist Rachel Siu\, who are joined by Sydney Symphony Orchestra principal violist Tobias Breider \nThis free public concert and also the free public performances on Friday 24 November 2023 are made possible through the support of the NSW Government through the Reconnecting Regional Communities grant funding. The Oberon Chamber Music Festival is a ticketed program held on Saturday 25 November and Sunday 26 November. Please consider supporting the 2023 Festival by coming to the concerts\, inviting friends\, joining our small business sponsorship package or perhaps adding a donation to your free ticket for this launch event.
URL:https://malachigilmorehall.com.au/event/oberon-chamber-music-festival-launch-event/
LOCATION:The Malachi Gilmore Hall\, 124 Oberon Street\, Oberon\, NSW\, 2787\, Australia
CATEGORIES:Classical Music,Live Music
ATTACH;FMTTYPE=image/png:https://malachigilmorehall.com.au/wp-content/uploads/2023/02/Launch-Event-Copy.png
END:VEVENT
END:VCALENDAR