BEGIN:VCALENDAR
VERSION:2.0
PRODID:-//Malachi Gilmore Hall - ECPv6.15.10//NONSGML v1.0//EN
CALSCALE:GREGORIAN
METHOD:PUBLISH
X-ORIGINAL-URL:https://malachigilmorehall.com.au
X-WR-CALDESC:Events for Malachi Gilmore Hall
REFRESH-INTERVAL;VALUE=DURATION:PT1H
X-Robots-Tag:noindex
X-PUBLISHED-TTL:PT1H
BEGIN:VTIMEZONE
TZID:Australia/Sydney
BEGIN:STANDARD
TZOFFSETFROM:+1100
TZOFFSETTO:+1000
TZNAME:AEST
DTSTART:20230401T160000
END:STANDARD
BEGIN:DAYLIGHT
TZOFFSETFROM:+1000
TZOFFSETTO:+1100
TZNAME:AEDT
DTSTART:20230930T160000
END:DAYLIGHT
BEGIN:STANDARD
TZOFFSETFROM:+1100
TZOFFSETTO:+1000
TZNAME:AEST
DTSTART:20240406T160000
END:STANDARD
BEGIN:DAYLIGHT
TZOFFSETFROM:+1000
TZOFFSETTO:+1100
TZNAME:AEDT
DTSTART:20241005T160000
END:DAYLIGHT
BEGIN:STANDARD
TZOFFSETFROM:+1100
TZOFFSETTO:+1000
TZNAME:AEST
DTSTART:20250405T160000
END:STANDARD
BEGIN:DAYLIGHT
TZOFFSETFROM:+1000
TZOFFSETTO:+1100
TZNAME:AEDT
DTSTART:20251004T160000
END:DAYLIGHT
END:VTIMEZONE
BEGIN:VEVENT
DTSTART;TZID=Australia/Sydney:20241122T173000
DTEND;TZID=Australia/Sydney:20241122T190000
DTSTAMP:20260425T131311
CREATED:20240903T132214Z
LAST-MODIFIED:20241001T111643Z
UID:2123-1732296600-1732302000@malachigilmorehall.com.au
SUMMARY:Oberon Chamber Music Festival - Community Gala Concert
DESCRIPTION:All are welcome to the Malachi for a free Gala concert to kick off a fantastic weekend of music. \nOur festival weekend kicks off with a free Gala concert featuring mezzo soprano Ashlyn Tymms\, Emma Jardine (violin)\, Tobias Breider (viola)\, Rachel Siu (cello)\, Kees Boersma (double bass)\, Peter Jenkin (clarinet) and Bernadette Harvey (piano)\, to give you a taste of what’s in store over the weekend at the Malachi Gilmore Hall. Bring your family – no ticket required! Courtesy of Oberon Council. \nNo tickets or booking required for this free concert.
URL:https://malachigilmorehall.com.au/event/oberon-chamber-music-festival-community-gala-concert/
LOCATION:The Malachi Gilmore Hall\, 124 Oberon Street\, Oberon\, NSW\, 2787\, Australia
CATEGORIES:Classical Music,Live Music
ATTACH;FMTTYPE=image/png:https://malachigilmorehall.com.au/wp-content/uploads/2024/09/ocmf24-gala-5tet.png
ORGANIZER;CN="Oberon Chamber Music Festival":MAILTO:info@oberonchambermusicfestival.com.au/
END:VEVENT
BEGIN:VEVENT
DTSTART;TZID=Australia/Sydney:20241123T140000
DTEND;TZID=Australia/Sydney:20241123T153000
DTSTAMP:20260425T131311
CREATED:20240903T132732Z
LAST-MODIFIED:20241001T111902Z
UID:2130-1732370400-1732375800@malachigilmorehall.com.au
SUMMARY:Oberon Chamber Music Festival - STREETON TRIO and Friends
DESCRIPTION:The internationally-acclaimed Streeton Trio\, along with friends Tobias Breider and Peter Jenkin\,  perform a recital of chamber music masterpieces. \nProgramme: \n\nMozart: Piano Trio in G major KV564\nSchumann: Märchenerzählungen (Fairy Tales) op.132 for Clarinet\, Viola and piano\nBrahms: Piano Trio in B major Op.8\n\nArrive an hour early for the Meet\, Greet & Eat (MG&E) pre-concert talk by our Festival music specialist Andy Bromberger\, included in your ticket price\, and enhance your experience with a pre-purchased Lunch Box. \nDescribed by Musica Viva as “Australia’s most internationally successful piano trio\,” the Streeton Trio brings together three of Australia’s most respected chamber musicians; Streeton Trio founder and violinist Emma Jardine\, international competition winning cellist Rachel Siu\, and renowned concert pianist Bernadette Harvey.  The trio has established its place as one of Australia’s leading chamber ensembles and has given highly acclaimed performances across the United Kingdom\, China\, Australia\, New Zealand\, United Arab Emirates\, Holland\, Lithuania\, Norway\, Germany\, France\, Austria and Switzerland. \nMeet\, Greet & Eat pre-concert talk \nWith such positive feedback from last year’s festival\, Andy’s delightful and personable manner adds much joy to the concert-going experience. Her 30-minute pre-concert MG&E talk will give you a deeper understanding of the music you are about to hear. Don’t miss it! \nAs ticket holders\, the MG&E talk is included in the ticket price. There is a delicious Lunch Box available for pre-purchase and will be ready for you to enjoy as you listen to Andy’s presentation. Not only do you get to meet the music and greet each other\, but you also get to treat your taste buds too. The Foyer Bar will be open for drinks purchases. \n 
URL:https://malachigilmorehall.com.au/event/oberon-chamber-music-festival-the-streeton-trio/
LOCATION:The Malachi Gilmore Hall\, 124 Oberon Street\, Oberon\, NSW\, 2787\, Australia
CATEGORIES:Classical Music,Live Music
ATTACH;FMTTYPE=image/png:https://malachigilmorehall.com.au/wp-content/uploads/2024/09/ocmf24-concert-1.png
ORGANIZER;CN="Oberon Chamber Music Festival":MAILTO:info@oberonchambermusicfestival.com.au/
END:VEVENT
BEGIN:VEVENT
DTSTART;TZID=Australia/Sydney:20241123T193000
DTEND;TZID=Australia/Sydney:20241123T210000
DTSTAMP:20260425T131311
CREATED:20240903T133434Z
LAST-MODIFIED:20241001T112023Z
UID:2133-1732390200-1732395600@malachigilmorehall.com.au
SUMMARY:Oberon Chamber Music Festival - ALL ABOUT THAT BASS
DESCRIPTION:Sydney Symphony’s principal double bass\, Kees Boersma  is joined by Tobias Breider\, viola; Bernadette Harvey\, piano; Emma Jardine\, violin\, and Rachel Siu\, cello\, to perform: \nDouble bass superstar Kees Boersma is joined by Tobias Breider\, viola; Bernadette Harvey\, piano; Emma Jardine\, violin\, and Rachel Siu\, cello\, to perform: \n\nShostakovich: Prelude and Gavotte for Viola\, Double Bass and Piano\nGlière: Suite for Double Bass and Viola\nEdgar Meyer: Duo for Cello and Double Bass\nSchubert: Piano Quintet in A major (‘the Trout’)\n\nArrive an hour early for the Meet\, Greet & Eat (MG&E) pre-concert talk by our Festival music specialist Andy Bromberger\, included in your ticket price\, and enhance your experience with a pre-purchased Cheese Platter Box. \nBorn in the Netherlands\, Kees Boersma graduated from the Victorian College of the Arts before returning to the Netherlands to study at the Sweelinck Conservatorium\, Amsterdam. He then worked with the Royal Concertgebouw Orchestra for two years\, performing at the Salzburg Festival\, BBC Proms\, and on tours to Montreux\, Lucerne\, Paris\, Vienna and Berlin. Returning to Australia\, he performed as principal with the State Orchestra of Victoria and Australian Chamber Orchestra\, before joining the Sydney Symphony Orchestra as Principal Double Bass. \nHe was a founding member of contemporary music group ELISION\, with whom he has recorded several CDs and toured Italy and Germany\, including performances at the Ultraschall Festival in Berlin. He also performs with the Sydney Soloists\, and appears regularly with the Australia Ensemble. In 2004\, he performed Schubert’s Trout Quintet and Brett Dean’s Voices of Angels with the Australia Ensemble during a national tour for Musica Viva. He also appeared in the inaugural Melbourne Spoleto Festival\, performing chamber music with Joshua Bell\, Colin Carr and Carter Brey. His musical interests include contemporary music and the solo double bass repertory of 18th-century Vienna\, and in his solo appearances with the Sydney Symphony Orchestra he has performed Bright’s Double Bass Concerto\, Dittersdorf’s Divertimento for viola and double bass\, and Bottesini’s Concerto for two double basses. In 2013 he gave the premiere performances of Mary Finsterer’s double bass concerto\, Lake Ice\, commissioned by the Sydney Symphony Orchestra. \nMeet\, Greet & Eat pre-concert talk \nWith such positive feedback from last year’s festival\, Andy’s delightful and personable manner adds much joy to the concert-going experience. Her 30-minute pre-concert MG&E talk will give you a deeper understanding of the music you are about to hear. Don’t miss it! \nAs ticket holders\, the MG&E talk is included in the ticket price. There is a delicious Cheese Platter Box available for pre-purchase and will be ready for you to enjoy as you listen to Andy’s presentation. Not only do you get to meet the music and greet each other\, but you also get to treat your taste buds too. The Foyer Bar will be open for drinks purchases.
URL:https://malachigilmorehall.com.au/event/oberon-chamber-music-festival-all-about-that-bass/
LOCATION:The Malachi Gilmore Hall\, 124 Oberon Street\, Oberon\, NSW\, 2787\, Australia
CATEGORIES:Classical Music,Live Music
ATTACH;FMTTYPE=image/png:https://malachigilmorehall.com.au/wp-content/uploads/2024/09/ocmf24-concert-2.png
ORGANIZER;CN="Oberon Chamber Music Festival":MAILTO:info@oberonchambermusicfestival.com.au/
END:VEVENT
BEGIN:VEVENT
DTSTART;TZID=Australia/Sydney:20241124T110000
DTEND;TZID=Australia/Sydney:20241124T123000
DTSTAMP:20260425T131311
CREATED:20240903T134706Z
LAST-MODIFIED:20241001T112316Z
UID:2136-1732446000-1732451400@malachigilmorehall.com.au
SUMMARY:Oberon Chamber Music Festival - WORLD LIEDER
DESCRIPTION:World-renowned Mezzo Soprano Ashlyn Tymms is joined by piano and strings to perform songs of transcendence. \nAshlyn Tymms is recognised for her powerful and emotive performances in both operatic and concert settings. Supported by the lush textures of the viola\, string quartet and piano\, this concert offers a diverse exploration of emotions and landscapes. \nAshlyn will be joined by Tobias Breider\, viola; Paul Ghica\, cello; Katherine Lukey\, violin; Emma Jardine\, violin\, and Bernadette Harvey\, piano. \nProgramme: \n\nStrauss – Morgen for piano and mezzo\nSchubert – Auflosung\nSchubert – Die junge nonne\nBrahms – 2 Gesänge for Viola and Mezzo Soprano\nSkipworth – Sanctus from Easter Mass\nMahler – ich bin der welt\nRespighi – “Il Tramonto” (The Sunset) for Mezzo Soprano and String Quartet\n\nArrive an hour early for the Meet\, Greet & Eat (MG&E) pre-concert talk by our Festival music specialist Andy Bromberger\, included in your ticket price\, and enhance your experience with a pre-purchased Morning Tea Box. \nPerth-born Ashlyn Tymms is building an impressive career in Australia and overseas. She studied in Melbourne and then at the Royal College of Music in London and has appeared in the London Handel Festival. She sang the beautiful Vaughan Williams’ Serenade to Music at Buckingham Palace in a performance hosted by the Prince of Wales and she toured to South Korea with the London Cello Orchestra. Ashlyn sings regularly with West Australian Opera and recently performed with the West Australian Symphony Orchestra. \nMeet\, Greet & Eat pre-concert talk \nWith such positive feedback from last year’s festival\, Andy’s delightful and personable manner adds much joy to the concert-going experience. Her 30-minute pre-concert MG&E talk will give you a deeper understanding of the music you are about to hear. Don’t miss it! \nAs ticket holders\, the MG&E talk is included in the ticket price. There is a delicious Morning Tea Box available for pre-purchase and will be ready for you to enjoy as you listen to Andy’s presentation. Not only do you get to meet the music and greet each other\, but you also get to treat your taste buds too. The Foyer Bar will be open for drinks purchases.
URL:https://malachigilmorehall.com.au/event/oberon-chamber-music-festival-world-lieder/
LOCATION:The Malachi Gilmore Hall\, 124 Oberon Street\, Oberon\, NSW\, 2787\, Australia
CATEGORIES:Classical Music,Live Music
ATTACH;FMTTYPE=image/png:https://malachigilmorehall.com.au/wp-content/uploads/2024/09/ocmf24-concert-3.png
ORGANIZER;CN="Oberon Chamber Music Festival":MAILTO:info@oberonchambermusicfestival.com.au/
END:VEVENT
BEGIN:VEVENT
DTSTART;TZID=Australia/Sydney:20241124T143000
DTEND;TZID=Australia/Sydney:20241124T160000
DTSTAMP:20260425T131311
CREATED:20240903T135949Z
LAST-MODIFIED:20241001T112606Z
UID:2140-1732458600-1732464000@malachigilmorehall.com.au
SUMMARY:Oberon Chamber Music Festival - TWIN CELLI
DESCRIPTION:Two beautiful double-cello quintets including an Australian Premiere by Brahms and a Schubert quintet. \nFeaturing two of Australia’s finest cellists\, Rachel Siu and Paul Ghica\, along with violinists Emma Jardine and Katherine Lukey\, and violist Tobias Breider\, this program concludes the festival with an intimate and dramatic performance. \nProgramme: \n\nBrahms: Quintet in F minor Op.34\nSchubert: String Quintet in C major D956\n\nBrahms’ Piano Quintet in F minor was originally scored for two cellos\, then destroyed by the composer and rewritten for piano and strings. Painstakingly recreated by a musicologist\, this will be Australia’s first public performance of the original two-cello version of Brahms Quintet in F minor. \nFranz Schubert’s final piece of chamber music\, String Quintet in C major\, is widely regarded as one of the greatest chamber works ever composed. \nMeet\, Greet & Eat pre-concert talk \nArrive an hour early for the Meet\, Greet & Eat (MG&E) pre-concert talk by our Festival music specialist Andy Bromberger\, included in your ticket price\, and enhance your experience with a pre-purchased Afternoon Cake Box. \nWith such positive feedback from last year’s festival\, Andy’s delightful and personable manner adds much joy to the concert-going experience. Her 30-minute pre-concert MG&E talk will give you a deeper understanding of the music you are about to hear. Don’t miss it! \nAs ticket holders\, the MG&E talk is included in the ticket price. There is a delicious Afternoon Cake Box available for pre-purchase and will be ready for you to enjoy as you listen to Andy’s presentation. Not only do you get to meet the music and greet each other\, but you also get to treat your taste buds too. The Foyer Bar will be open for drinks purchases.
URL:https://malachigilmorehall.com.au/event/oberon-chamber-music-festival-twin-celli/
LOCATION:The Malachi Gilmore Hall\, 124 Oberon Street\, Oberon\, NSW\, 2787\, Australia
CATEGORIES:Classical Music,Live Music
ATTACH;FMTTYPE=image/png:https://malachigilmorehall.com.au/wp-content/uploads/2024/09/ocmf24-concert-4.png
ORGANIZER;CN="Oberon Chamber Music Festival":MAILTO:info@oberonchambermusicfestival.com.au/
END:VEVENT
END:VCALENDAR