BEGIN:VCALENDAR
VERSION:2.0
PRODID:-//Malachi Gilmore Hall - ECPv6.15.10//NONSGML v1.0//EN
CALSCALE:GREGORIAN
METHOD:PUBLISH
X-ORIGINAL-URL:https://malachigilmorehall.com.au
X-WR-CALDESC:Events for Malachi Gilmore Hall
REFRESH-INTERVAL;VALUE=DURATION:PT1H
X-Robots-Tag:noindex
X-PUBLISHED-TTL:PT1H
BEGIN:VTIMEZONE
TZID:Australia/Sydney
BEGIN:STANDARD
TZOFFSETFROM:+1100
TZOFFSETTO:+1000
TZNAME:AEST
DTSTART:20230401T160000
END:STANDARD
BEGIN:DAYLIGHT
TZOFFSETFROM:+1000
TZOFFSETTO:+1100
TZNAME:AEDT
DTSTART:20230930T160000
END:DAYLIGHT
BEGIN:STANDARD
TZOFFSETFROM:+1100
TZOFFSETTO:+1000
TZNAME:AEST
DTSTART:20240406T160000
END:STANDARD
BEGIN:DAYLIGHT
TZOFFSETFROM:+1000
TZOFFSETTO:+1100
TZNAME:AEDT
DTSTART:20241005T160000
END:DAYLIGHT
BEGIN:STANDARD
TZOFFSETFROM:+1100
TZOFFSETTO:+1000
TZNAME:AEST
DTSTART:20250405T160000
END:STANDARD
BEGIN:DAYLIGHT
TZOFFSETFROM:+1000
TZOFFSETTO:+1100
TZNAME:AEDT
DTSTART:20251004T160000
END:DAYLIGHT
END:VTIMEZONE
BEGIN:VEVENT
DTSTART;TZID=Australia/Sydney:20240211T143000
DTEND;TZID=Australia/Sydney:20240211T161500
DTSTAMP:20260426T051551
CREATED:20240113T104937Z
LAST-MODIFIED:20240113T104937Z
UID:1966-1707661800-1707668100@malachigilmorehall.com.au
SUMMARY:100 years of Rhapsody In Blue
DESCRIPTION:Celebrate the centenary of George Gershwin’s tuneful hit\, Rhapsody In Blue\, and fasten your seatbelts for a fun ride! \nComposed in 1924 and controversial from the first\, Rhapsody In Blue challenged notions regarding the divide between classical and popular music.  Its relatively free form flew in the face of symphonic structure; and it combined freshness and originality with an irresistible accessibility. First performed on 12 February 1924\, our concert is (almost) to the day a century on! \nWell-known Canberra identity Carl Rafferty (piano) is joined by his virtuosic and rambunctious friends on saxophone\, clarinet\, trumpet\, flute\, and percussion\, to play jazz infused renditions of music by Gershwin\, Ravel\, Bernstein\, Shostakovich\, and others. \nThe programme will include Debussy’s Clair de Lune\, Bernstein’s overture to Candide\, Copeland’s El Salon Mexico\, Ravel’s Pavane… and\, of course\, Gershwin’s Rhapsody In Blue!
URL:https://malachigilmorehall.com.au/event/100-years-of-rhapsody-in-blue/
LOCATION:The Malachi Gilmore Hall\, 124 Oberon Street\, Oberon\, NSW\, 2787\, Australia
CATEGORIES:Live Music
ATTACH;FMTTYPE=image/jpeg:https://malachigilmorehall.com.au/wp-content/uploads/2024/01/pic4.jpg
ORGANIZER;CN="Oberon Live Projects":MAILTO:info@malachigilmorehall.com.au
END:VEVENT
END:VCALENDAR