BEGIN:VCALENDAR
VERSION:2.0
PRODID:-//Malachi Gilmore Hall - ECPv6.15.10//NONSGML v1.0//EN
CALSCALE:GREGORIAN
METHOD:PUBLISH
X-WR-CALNAME:Malachi Gilmore Hall
X-ORIGINAL-URL:https://malachigilmorehall.com.au
X-WR-CALDESC:Events for Malachi Gilmore Hall
REFRESH-INTERVAL;VALUE=DURATION:PT1H
X-Robots-Tag:noindex
X-PUBLISHED-TTL:PT1H
BEGIN:VTIMEZONE
TZID:Australia/Sydney
BEGIN:STANDARD
TZOFFSETFROM:+1100
TZOFFSETTO:+1000
TZNAME:AEST
DTSTART:20240406T160000
END:STANDARD
BEGIN:DAYLIGHT
TZOFFSETFROM:+1000
TZOFFSETTO:+1100
TZNAME:AEDT
DTSTART:20241005T160000
END:DAYLIGHT
BEGIN:STANDARD
TZOFFSETFROM:+1100
TZOFFSETTO:+1000
TZNAME:AEST
DTSTART:20250405T160000
END:STANDARD
BEGIN:DAYLIGHT
TZOFFSETFROM:+1000
TZOFFSETTO:+1100
TZNAME:AEDT
DTSTART:20251004T160000
END:DAYLIGHT
BEGIN:STANDARD
TZOFFSETFROM:+1100
TZOFFSETTO:+1000
TZNAME:AEST
DTSTART:20260404T160000
END:STANDARD
BEGIN:DAYLIGHT
TZOFFSETFROM:+1000
TZOFFSETTO:+1100
TZNAME:AEDT
DTSTART:20261003T160000
END:DAYLIGHT
END:VTIMEZONE
BEGIN:VEVENT
DTSTART;TZID=Australia/Sydney:20250913T100000
DTEND;TZID=Australia/Sydney:20250914T160000
DTSTAMP:20260424T211422
CREATED:20250721T085821Z
LAST-MODIFIED:20250802T011404Z
UID:2442-1757757600-1757865600@malachigilmorehall.com.au
SUMMARY:Oberon Interesting Things
DESCRIPTION:Walk on in to an exhibition of Interesting Things from the hands\, homes and histories of Oberon.  Along with a piece or two from the Malachi’s own discoveries\, we will have ‘things’ we think you will find interesting\, that our friends at the Oberon District Museum\, the team at Jenolan Caves House\, and local residents have unearthed\, uncovered or created. \nThe Malachi will be open from 10 AM to 4 PM on Saturday and Sunday.
URL:https://malachigilmorehall.com.au/event/oberon-interesting-things/
LOCATION:The Malachi Gilmore Hall\, 124 Oberon Street\, Oberon\, NSW\, 2787\, Australia
CATEGORIES:Exhibition
ATTACH;FMTTYPE=image/png:https://malachigilmorehall.com.au/wp-content/uploads/2025/07/ITs-banner.png
ORGANIZER;CN="Oberon Live Projects":MAILTO:info@malachigilmorehall.com.au
END:VEVENT
END:VCALENDAR