BEGIN:VCALENDAR
VERSION:2.0
PRODID:-//Malachi Gilmore Hall - ECPv6.15.10//NONSGML v1.0//EN
CALSCALE:GREGORIAN
METHOD:PUBLISH
X-WR-CALNAME:Malachi Gilmore Hall
X-ORIGINAL-URL:https://malachigilmorehall.com.au
X-WR-CALDESC:Events for Malachi Gilmore Hall
REFRESH-INTERVAL;VALUE=DURATION:PT1H
X-Robots-Tag:noindex
X-PUBLISHED-TTL:PT1H
BEGIN:VTIMEZONE
TZID:Australia/Sydney
BEGIN:STANDARD
TZOFFSETFROM:+1100
TZOFFSETTO:+1000
TZNAME:AEST
DTSTART:20220402T160000
END:STANDARD
BEGIN:DAYLIGHT
TZOFFSETFROM:+1000
TZOFFSETTO:+1100
TZNAME:AEDT
DTSTART:20221001T160000
END:DAYLIGHT
BEGIN:STANDARD
TZOFFSETFROM:+1100
TZOFFSETTO:+1000
TZNAME:AEST
DTSTART:20230401T160000
END:STANDARD
BEGIN:DAYLIGHT
TZOFFSETFROM:+1000
TZOFFSETTO:+1100
TZNAME:AEDT
DTSTART:20230930T160000
END:DAYLIGHT
BEGIN:STANDARD
TZOFFSETFROM:+1100
TZOFFSETTO:+1000
TZNAME:AEST
DTSTART:20240406T160000
END:STANDARD
BEGIN:DAYLIGHT
TZOFFSETFROM:+1000
TZOFFSETTO:+1100
TZNAME:AEDT
DTSTART:20241005T160000
END:DAYLIGHT
BEGIN:STANDARD
TZOFFSETFROM:+1100
TZOFFSETTO:+1000
TZNAME:AEST
DTSTART:20250405T160000
END:STANDARD
BEGIN:DAYLIGHT
TZOFFSETFROM:+1000
TZOFFSETTO:+1100
TZNAME:AEDT
DTSTART:20251004T160000
END:DAYLIGHT
BEGIN:STANDARD
TZOFFSETFROM:+1100
TZOFFSETTO:+1000
TZNAME:AEST
DTSTART:20260404T160000
END:STANDARD
BEGIN:DAYLIGHT
TZOFFSETFROM:+1000
TZOFFSETTO:+1100
TZNAME:AEDT
DTSTART:20261003T160000
END:DAYLIGHT
BEGIN:STANDARD
TZOFFSETFROM:+1100
TZOFFSETTO:+1000
TZNAME:AEST
DTSTART:20270403T160000
END:STANDARD
BEGIN:DAYLIGHT
TZOFFSETFROM:+1000
TZOFFSETTO:+1100
TZNAME:AEDT
DTSTART:20271002T160000
END:DAYLIGHT
END:VTIMEZONE
BEGIN:VEVENT
DTSTART;TZID=Australia/Sydney:20260306T173000
DTEND;TZID=Australia/Sydney:20260306T220000
DTSTAMP:20260424T072355
CREATED:20251230T011604Z
LAST-MODIFIED:20260304T110546Z
UID:2605-1772818200-1772834400@malachigilmorehall.com.au
SUMMARY:Oberon Shakespeare Festival Feast & Performance
DESCRIPTION:Get Tickets\nA feast for the senses! Enjoy a banquet inspired by the food of Elizabethan England: hearty spit roasts\, loads of potatoes\, an array of salads and desserts. \nThe night features performances by acclaimed Shakespearean troupe ‘Come You Spirits’ who bring their unique perspective to a selection of pieces from Shakespeare’s classic plays. This time we’re focusing on love and romance – the good\, the bad and the tragic. \nWe hope you’ll come and bring a hint of Shakespeare with you (a hat\, a feather\, a brooch\, a quote …) \nThere’ll be some prizes\, good food and heaps of fun. \nThis event is part of the Oberon Shakespeare Festival. \nDoors open at 5:30pm. Food service at 6:15pm.
URL:https://malachigilmorehall.com.au/event/oberon-shakespeare-festival-feast/
LOCATION:The Malachi Gilmore Hall\, 124 Oberon Street\, Oberon\, NSW\, 2787\, Australia
CATEGORIES:Dinner with entertainment,Theatre
ATTACH;FMTTYPE=image/png:https://malachigilmorehall.com.au/wp-content/uploads/2026/01/malachi-feast-2026.png
END:VEVENT
BEGIN:VEVENT
DTSTART;TZID=Australia/Sydney:20250314T180000
DTEND;TZID=Australia/Sydney:20250314T220000
DTSTAMP:20260424T072355
CREATED:20241218T073726Z
LAST-MODIFIED:20241218T073726Z
UID:2225-1741975200-1741989600@malachigilmorehall.com.au
SUMMARY:Shakespeare Festival\, Feast & Performance
DESCRIPTION:A feast for the senses! Enjoy a banquet inspired by the food of Elizabethan England: hearty spit roasts\, loads of potatoes\, an array of salads and desserts. \nThe night features a performance by Shakespearean troupe ‘Come You Spirits’ who bring their unique perspective to a selection of pieces from Shakespeare’s classic plays. \nWe hope you’ll come and bring a hint of Shakespeare with you (a hat\, a feather\, a brooch\, a quote …). \nOur venue is the magnificent Malachi Gilmore Hall which was listed on the NSW State Heritage Register (SHR) in 2003\, being recognised as having particular significance as an outstanding example of Interwar Art Deco architecture in regional NSW. \nThis event is part of the inaugural Oberon Shakespeare Festival. \nIt promises to be heaps of fun. \nDoors open at 6pm. Food service at 6:30pm.
URL:https://malachigilmorehall.com.au/event/shakespeare-festival-feast-performance/
LOCATION:The Malachi Gilmore Hall\, 124 Oberon Street\, Oberon\, NSW\, 2787\, Australia
CATEGORIES:Dinner with entertainment,Theatre
ATTACH;FMTTYPE=image/png:https://malachigilmorehall.com.au/wp-content/uploads/2024/12/zb5721malachi-working_rob-1.png
END:VEVENT
BEGIN:VEVENT
DTSTART;TZID=Australia/Sydney:20240420T183000
DTEND;TZID=Australia/Sydney:20240420T223000
DTSTAMP:20260424T072355
CREATED:20240222T090909Z
LAST-MODIFIED:20240226T114319Z
UID:2000-1713637800-1713652200@malachigilmorehall.com.au
SUMMARY:The Producers' Table
DESCRIPTION:Now in its third edition\, The Producers’ Table celebrates the very best offerings from the regional town of Oberon. \nGet Tickets ->\nThe Producers’ Table is the finale event of Oberon’s Field to Forest Festival 2024\, a month-long array of activities including forage tours\, forest talks\, open gardens and food events. \nEnjoy a fascinating evening of live music\, dining and stories from the region’s producers. Each ticket includes a complimentary drink on arrival. A three-course set menu showcases the finest produce from the Oberon district\, beautifully prepared by local chef Drew Bolton of Short Street Kitchen and  The Milbrey Kitchen & Store. This year we are thrilled to include the world renowned Margra Lamb\, and to hear the remarkable story of the Gilmore brothers. The planned menu includes a wealth of locally grown and foraged produce – beer\, wine\, truffles\, honey\, potatoes and greens. \nThe Art Deco gem in the heart of town\, The Malachi will provide you with a magical dining experience – a night of exciting eating and good companionship\, interspersed with tales from the people who grew the food and beautiful performances by extraordinary musicians. \nTickets are $125 plus booking fee. All seats are at one large communal table in a refettorio style. Groups that have come to dine together will be organised to be seated side by side and across from each other. This information is collected when making your ticket purchase. \nThe menu includes a variety of nuts\, dairy and gluten. A vegetarian main can be catered.
URL:https://malachigilmorehall.com.au/event/the-producers-table-2/
LOCATION:The Malachi Gilmore Hall\, 124 Oberon Street\, Oberon\, NSW\, 2787\, Australia
CATEGORIES:Dinner with entertainment
ATTACH;FMTTYPE=image/png:https://malachigilmorehall.com.au/wp-content/uploads/2024/02/PT-F2F24-2.png
ORGANIZER;CN="Oberon Live Projects":MAILTO:info@malachigilmorehall.com.au
END:VEVENT
BEGIN:VEVENT
DTSTART;TZID=Australia/Sydney:20231028T190000
DTEND;TZID=Australia/Sydney:20231028T230000
DTSTAMP:20260424T072355
CREATED:20230725T122345Z
LAST-MODIFIED:20230725T123718Z
UID:1819-1698519600-1698534000@malachigilmorehall.com.au
SUMMARY:The Great Railway Ball
DESCRIPTION:Yes\, The Great Railway Ball for 2023 is on again on Saturday 28th October. \nThe Ball is part of the Oberon Tarana Heritage Railway Month of Celebrations of Centenary of the opening of the Oberon branch line. \nThe inaugural Ball in 2022 was a huge success and in 2023 we are upping the ante. This year we are Celebrating our Pioneers – a folk band\, The Nodding Thistles\, have been engaged and they are guaranteed to have you dancing on the tables this year. \nTables hold 8 people so round up your friends and book a table.  You have until the 4th of September before you need to pay.  If you haven’t many friends book how many seats you want\, and we will find some new best friends for you! \nWe will be offering a fabulous dinner\, included in the cost of $100 per person. Interest is already high and tickets are limited\, so jump in quickly and lodge your interest by sending an e-mail to: \nadmin@othr.com.au  \n 
URL:https://malachigilmorehall.com.au/event/the-great-railway-ball-2/
LOCATION:The Malachi Gilmore Hall\, 124 Oberon Street\, Oberon\, NSW\, 2787\, Australia
CATEGORIES:Dinner and Dance,Dinner with entertainment,Live Music
ATTACH;FMTTYPE=image/jpeg:https://malachigilmorehall.com.au/wp-content/uploads/2023/07/GWB-head.jpg
END:VEVENT
BEGIN:VEVENT
DTSTART;TZID=Australia/Sydney:20230415T183000
DTEND;TZID=Australia/Sydney:20230415T220000
DTSTAMP:20260424T072355
CREATED:20230213T111347Z
LAST-MODIFIED:20230228T210226Z
UID:1621-1681583400-1681596000@malachigilmorehall.com.au
SUMMARY:The Producers' Table
DESCRIPTION:The finale event of Oberon’s 2023 Field to Forest Festival is a performance dinner of the Oberon region’s finest produce.  The feast includes local trout\, Sunnypoint beef\, homegrown garlic and honey\, and Renzaglia’s wines!  During the meal we will hear stories from the food and wine producers themselves\, and between courses we will be entertained by mini concerts of fine contemporary music. All in the fascinating interior of the Malachi Gilmore Hall and a unique dining setting. \n  \nTicket includes a complimentary first drink\, and the Foyer Bar will be open for drink purchases. \n 
URL:https://malachigilmorehall.com.au/event/the-producers-table/
LOCATION:The Malachi Gilmore Hall\, 124 Oberon Street\, Oberon\, NSW\, 2787\, Australia
CATEGORIES:Dinner with entertainment,Live Music
ATTACH;FMTTYPE=image/png:https://malachigilmorehall.com.au/wp-content/uploads/2023/02/PT-banner.png
END:VEVENT
END:VCALENDAR