BEGIN:VCALENDAR
VERSION:2.0
PRODID:-//Malachi Gilmore Hall - ECPv6.15.10//NONSGML v1.0//EN
CALSCALE:GREGORIAN
METHOD:PUBLISH
X-WR-CALNAME:Malachi Gilmore Hall
X-ORIGINAL-URL:https://malachigilmorehall.com.au
X-WR-CALDESC:Events for Malachi Gilmore Hall
REFRESH-INTERVAL;VALUE=DURATION:PT1H
X-Robots-Tag:noindex
X-PUBLISHED-TTL:PT1H
BEGIN:VTIMEZONE
TZID:Australia/Sydney
BEGIN:STANDARD
TZOFFSETFROM:+1100
TZOFFSETTO:+1000
TZNAME:AEST
DTSTART:20210403T160000
END:STANDARD
BEGIN:DAYLIGHT
TZOFFSETFROM:+1000
TZOFFSETTO:+1100
TZNAME:AEDT
DTSTART:20211002T160000
END:DAYLIGHT
BEGIN:STANDARD
TZOFFSETFROM:+1100
TZOFFSETTO:+1000
TZNAME:AEST
DTSTART:20220402T160000
END:STANDARD
BEGIN:DAYLIGHT
TZOFFSETFROM:+1000
TZOFFSETTO:+1100
TZNAME:AEDT
DTSTART:20221001T160000
END:DAYLIGHT
BEGIN:STANDARD
TZOFFSETFROM:+1100
TZOFFSETTO:+1000
TZNAME:AEST
DTSTART:20230401T160000
END:STANDARD
BEGIN:DAYLIGHT
TZOFFSETFROM:+1000
TZOFFSETTO:+1100
TZNAME:AEDT
DTSTART:20230930T160000
END:DAYLIGHT
BEGIN:STANDARD
TZOFFSETFROM:+1100
TZOFFSETTO:+1000
TZNAME:AEST
DTSTART:20240406T160000
END:STANDARD
BEGIN:DAYLIGHT
TZOFFSETFROM:+1000
TZOFFSETTO:+1100
TZNAME:AEDT
DTSTART:20241005T160000
END:DAYLIGHT
BEGIN:STANDARD
TZOFFSETFROM:+1100
TZOFFSETTO:+1000
TZNAME:AEST
DTSTART:20250405T160000
END:STANDARD
BEGIN:DAYLIGHT
TZOFFSETFROM:+1000
TZOFFSETTO:+1100
TZNAME:AEDT
DTSTART:20251004T160000
END:DAYLIGHT
BEGIN:STANDARD
TZOFFSETFROM:+1100
TZOFFSETTO:+1000
TZNAME:AEST
DTSTART:20260404T160000
END:STANDARD
BEGIN:DAYLIGHT
TZOFFSETFROM:+1000
TZOFFSETTO:+1100
TZNAME:AEDT
DTSTART:20261003T160000
END:DAYLIGHT
BEGIN:STANDARD
TZOFFSETFROM:+1100
TZOFFSETTO:+1000
TZNAME:AEST
DTSTART:20270403T160000
END:STANDARD
BEGIN:DAYLIGHT
TZOFFSETFROM:+1000
TZOFFSETTO:+1100
TZNAME:AEDT
DTSTART:20271002T160000
END:DAYLIGHT
END:VTIMEZONE
BEGIN:VEVENT
DTSTART;TZID=Australia/Sydney:20251231T190000
DTEND;TZID=Australia/Sydney:20260101T000000
DTSTAMP:20260424T065929
CREATED:20251101T034357Z
LAST-MODIFIED:20251217T070905Z
UID:2573-1767207600-1767225600@malachigilmorehall.com.au
SUMMARY:NYE 2025 at the Malachi
DESCRIPTION:Ring in 2026 with a night of music\, dancing\, and celebration at Oberon’s most iconic venue. The Malachi is bringing the party with 10-minute mini DANCE sets spanning every genre: funk\, disco\, pop\, rock\, hip-hop\, country and more. Hit the floor\, catch your breath\, then dive back in for the next vibe! \nEnjoy the licensed bar\, BYO your own food\, and the Harbour fireworks live on the big screen as we count down to midnight together. \nKids (under 16) are welcome until the 9PM family fireworks. After 9PM this is a 16+ event\, so round up your crew\, bring your party spirit\, and dress to impress. \nLet’s make this New Year’s Eve one to remember! \nEarly Bird tickets available until sold out. Save dollars by getting organised ASAP. \nBUY: Single seats on communal table \nBUY: Groups of four on a shared table or a shared sofa booth (One booth consists of two 3-Seater Sofas\, two chairs and two coffee tables) \nBring your own food for the evening and the Malachi will provide plates\, water glasses\, serviettes and cutlery. \nSTRICTLY NO BYO ALCOHOL OR SOFT DRINKS. LICENSED BAR ONLY.
URL:https://malachigilmorehall.com.au/event/nye-2025-at-the-malachi/
LOCATION:The Malachi Gilmore Hall\, 124 Oberon Street\, Oberon\, NSW\, 2787\, Australia
CATEGORIES:Dance Party,Dinner and Dance
ATTACH;FMTTYPE=image/png:https://malachigilmorehall.com.au/wp-content/uploads/2025/11/NYE25-720-x-480-px-1.png
ORGANIZER;CN="Oberon Live Projects":MAILTO:info@malachigilmorehall.com.au
END:VEVENT
BEGIN:VEVENT
DTSTART;TZID=Australia/Sydney:20231028T190000
DTEND;TZID=Australia/Sydney:20231028T230000
DTSTAMP:20260424T065929
CREATED:20230725T122345Z
LAST-MODIFIED:20230725T123718Z
UID:1819-1698519600-1698534000@malachigilmorehall.com.au
SUMMARY:The Great Railway Ball
DESCRIPTION:Yes\, The Great Railway Ball for 2023 is on again on Saturday 28th October. \nThe Ball is part of the Oberon Tarana Heritage Railway Month of Celebrations of Centenary of the opening of the Oberon branch line. \nThe inaugural Ball in 2022 was a huge success and in 2023 we are upping the ante. This year we are Celebrating our Pioneers – a folk band\, The Nodding Thistles\, have been engaged and they are guaranteed to have you dancing on the tables this year. \nTables hold 8 people so round up your friends and book a table.  You have until the 4th of September before you need to pay.  If you haven’t many friends book how many seats you want\, and we will find some new best friends for you! \nWe will be offering a fabulous dinner\, included in the cost of $100 per person. Interest is already high and tickets are limited\, so jump in quickly and lodge your interest by sending an e-mail to: \nadmin@othr.com.au  \n 
URL:https://malachigilmorehall.com.au/event/the-great-railway-ball-2/
LOCATION:The Malachi Gilmore Hall\, 124 Oberon Street\, Oberon\, NSW\, 2787\, Australia
CATEGORIES:Dinner and Dance,Dinner with entertainment,Live Music
ATTACH;FMTTYPE=image/jpeg:https://malachigilmorehall.com.au/wp-content/uploads/2023/07/GWB-head.jpg
END:VEVENT
BEGIN:VEVENT
DTSTART;TZID=Australia/Sydney:20221029T190000
DTEND;TZID=Australia/Sydney:20221029T223000
DTSTAMP:20260424T065929
CREATED:20220816T110032Z
LAST-MODIFIED:20220816T110032Z
UID:1345-1667070000-1667082600@malachigilmorehall.com.au
SUMMARY:The Great Railway Ball
DESCRIPTION:Celebrate spring with the Oberon & Tarana Heritage Railway\, which is closer than ever to seeing a train running on our line to Hazelgrove. With this in mind and with spring on the way it’s time to celebrate! Dig out your glad rags\, polish up your dancing shoes and come and join in the celebrations at the Malachi. Entry includes a three-course meal and complimentary glass of bubbles on arrival.  You can book a table for 8 people\, or you can book a seat at a table.
URL:https://malachigilmorehall.com.au/event/the-great-railway-ball/
LOCATION:The Malachi Gilmore Hall\, 124 Oberon Street\, Oberon\, NSW\, 2787\, Australia
CATEGORIES:Dinner and Dance
ATTACH;FMTTYPE=image/png:https://malachigilmorehall.com.au/wp-content/uploads/2022/08/othr-GtRailwayBall.png
END:VEVENT
END:VCALENDAR