BEGIN:VCALENDAR
VERSION:2.0
PRODID:-//Malachi Gilmore Hall - ECPv6.15.10//NONSGML v1.0//EN
CALSCALE:GREGORIAN
METHOD:PUBLISH
X-WR-CALNAME:Malachi Gilmore Hall
X-ORIGINAL-URL:https://malachigilmorehall.com.au
X-WR-CALDESC:Events for Malachi Gilmore Hall
REFRESH-INTERVAL;VALUE=DURATION:PT1H
X-Robots-Tag:noindex
X-PUBLISHED-TTL:PT1H
BEGIN:VTIMEZONE
TZID:Australia/Sydney
BEGIN:STANDARD
TZOFFSETFROM:+1100
TZOFFSETTO:+1000
TZNAME:AEST
DTSTART:20240406T160000
END:STANDARD
BEGIN:DAYLIGHT
TZOFFSETFROM:+1000
TZOFFSETTO:+1100
TZNAME:AEDT
DTSTART:20241005T160000
END:DAYLIGHT
BEGIN:STANDARD
TZOFFSETFROM:+1100
TZOFFSETTO:+1000
TZNAME:AEST
DTSTART:20250405T160000
END:STANDARD
BEGIN:DAYLIGHT
TZOFFSETFROM:+1000
TZOFFSETTO:+1100
TZNAME:AEDT
DTSTART:20251004T160000
END:DAYLIGHT
BEGIN:STANDARD
TZOFFSETFROM:+1100
TZOFFSETTO:+1000
TZNAME:AEST
DTSTART:20260404T160000
END:STANDARD
BEGIN:DAYLIGHT
TZOFFSETFROM:+1000
TZOFFSETTO:+1100
TZNAME:AEDT
DTSTART:20261003T160000
END:DAYLIGHT
END:VTIMEZONE
BEGIN:VEVENT
DTSTART;TZID=Australia/Sydney:20250523T110000
DTEND;TZID=Australia/Sydney:20250523T150000
DTSTAMP:20260425T033631
CREATED:20250504T001021Z
LAST-MODIFIED:20250504T003255Z
UID:2375-1747998000-1748012400@malachigilmorehall.com.au
SUMMARY:The Malachi Lap Rug Project
DESCRIPTION:Join us for a heartwarming day of knitting and crochet as we create cozy lap rugs for The Malachi! All materials—spun wool\, needles\, and patterns—are provided\, so just bring your enthusiasm. Enjoy a comforting vegetarian soup and bread roll lunch as you connect with others and craft together. \nAll knitters and crocheters welcome! \nLunch will be at 12:30 PM at a cost of $10 on the day. \nRSVP by 16 May to Lexi 0410 530 698 for more project information\, or Lucy 0401 262 260. \n 
URL:https://malachigilmorehall.com.au/event/the-malachi-lap-rug-project/
LOCATION:NSW
CATEGORIES:Craft
ATTACH;FMTTYPE=image/png:https://malachigilmorehall.com.au/wp-content/uploads/2025/05/Knit-in-1.png
ORGANIZER;CN="Malachi Gilmore Hall":MAILTO:info@malachigilmorehall.com.au
END:VEVENT
END:VCALENDAR