BEGIN:VCALENDAR
VERSION:2.0
PRODID:-//Malachi Gilmore Hall - ECPv6.15.10//NONSGML v1.0//EN
CALSCALE:GREGORIAN
METHOD:PUBLISH
X-WR-CALNAME:Malachi Gilmore Hall
X-ORIGINAL-URL:https://malachigilmorehall.com.au
X-WR-CALDESC:Events for Malachi Gilmore Hall
REFRESH-INTERVAL;VALUE=DURATION:PT1H
X-Robots-Tag:noindex
X-PUBLISHED-TTL:PT1H
BEGIN:VTIMEZONE
TZID:Australia/Sydney
BEGIN:STANDARD
TZOFFSETFROM:+1100
TZOFFSETTO:+1000
TZNAME:AEST
DTSTART:20240406T160000
END:STANDARD
BEGIN:DAYLIGHT
TZOFFSETFROM:+1000
TZOFFSETTO:+1100
TZNAME:AEDT
DTSTART:20241005T160000
END:DAYLIGHT
BEGIN:STANDARD
TZOFFSETFROM:+1100
TZOFFSETTO:+1000
TZNAME:AEST
DTSTART:20250405T160000
END:STANDARD
BEGIN:DAYLIGHT
TZOFFSETFROM:+1000
TZOFFSETTO:+1100
TZNAME:AEDT
DTSTART:20251004T160000
END:DAYLIGHT
BEGIN:STANDARD
TZOFFSETFROM:+1100
TZOFFSETTO:+1000
TZNAME:AEST
DTSTART:20260404T160000
END:STANDARD
BEGIN:DAYLIGHT
TZOFFSETFROM:+1000
TZOFFSETTO:+1100
TZNAME:AEDT
DTSTART:20261003T160000
END:DAYLIGHT
END:VTIMEZONE
BEGIN:VEVENT
DTSTART;TZID=Australia/Sydney:20251108T183000
DTEND;TZID=Australia/Sydney:20251108T213000
DTSTAMP:20260424T092622
CREATED:20250731T005152Z
LAST-MODIFIED:20250801T055459Z
UID:2455-1762626600-1762637400@malachigilmorehall.com.au
SUMMARY:Laughs Out West
DESCRIPTION:Laughs Out West is coming to town!!! Presented by Blue Mountains Comedy & Arts on Tour.  Join a showcase of Australia’s top comedians as they bring some belly laughs and good vibes to Oberon.\n\nThis year’s line up includes:\nSean Woodland (Melbourne International Comedy Festival)\n\nHas more than the average number of laughs up his sleeve…Do Woodland and yourself a favour and get along.” The Adelaide Advertiser.\n\nCarolyn Swindell (Sydney Comedy Festival)\n\n“Swindell weaves a complex and compelling narrative that had her audience surprised and spellbound.” ArtsHub.\n\nMarty Bright (Lithgow Comedy Festival)\n\n“Rapid fire\, high level of spontaneousness and crowd engagement” – Illawarra Flame.\n\nPlus Special Guests\nTicket Holders are welcome to join the comedians from the Pre Show Q&A Meet n Greet\, where they will have the chance to learn more about getting started in the stand up comedy scene.\n\n\n6:30 PM – 7 PM – PRE SHOW Q&A – MEET & GREET\n7:30 PM – 8 PM – DOORS & SEATING\n8 PM – 9:30 PM – SHOW\n\nGet Tickets\nThis event is supported by Arts OutWest and Arts On Tour
URL:https://malachigilmorehall.com.au/event/laughs-out-west/
LOCATION:The Malachi Gilmore Hall\, 124 Oberon Street\, Oberon\, NSW\, 2787\, Australia
CATEGORIES:Comedy
ATTACH;FMTTYPE=image/jpeg:https://malachigilmorehall.com.au/wp-content/uploads/2025/07/laughs-out-west-Facebook-Banner_v2-scaled.jpg
ORGANIZER;CN="Blue Mountains Comedy":MAILTO:bluemountainscomedy@gmail.com
END:VEVENT
END:VCALENDAR